BEGIN:VCALENDAR
VERSION:2.0
PRODID:-//Kenai Art Center - ECPv6.15.20//NONSGML v1.0//EN
CALSCALE:GREGORIAN
METHOD:PUBLISH
X-ORIGINAL-URL:https://kenaiartcenter.org
X-WR-CALDESC:Events for Kenai Art Center
REFRESH-INTERVAL;VALUE=DURATION:PT1H
X-Robots-Tag:noindex
X-PUBLISHED-TTL:PT1H
BEGIN:VTIMEZONE
TZID:UTC
BEGIN:STANDARD
TZOFFSETFROM:+0000
TZOFFSETTO:+0000
TZNAME:UTC
DTSTART:20220101T000000
END:STANDARD
END:VTIMEZONE
BEGIN:VEVENT
DTSTART;TZID=UTC:20231118T130000
DTEND;TZID=UTC:20231118T143000
DTSTAMP:20260425T085247
CREATED:20231024T113755Z
LAST-MODIFIED:20231024T113755Z
UID:8130-1700312400-1700317800@kenaiartcenter.org
SUMMARY:Mural-Gallery Art Walk
DESCRIPTION:Come and join UAA art student Claudette Barber in the KAC gallery as we look at murals and talk with some of the mural artists who contribute to this great annual event. \n \n  \n 
URL:https://kenaiartcenter.org/event/mural-gallery-art-walk/
LOCATION:Kenai Art Center\, 816 Cook Ave\, Kenai\, AK\, 99611
CATEGORIES:Workshops
ATTACH;FMTTYPE=image/png:https://kenaiartcenter.org/wp-content/uploads/2023/10/claudette-barber-flyer.png
END:VEVENT
END:VCALENDAR