BEGIN:VCALENDAR
VERSION:2.0
PRODID:-//Kenai Art Center - ECPv6.15.20//NONSGML v1.0//EN
CALSCALE:GREGORIAN
METHOD:PUBLISH
X-ORIGINAL-URL:https://kenaiartcenter.org
X-WR-CALDESC:Events for Kenai Art Center
REFRESH-INTERVAL;VALUE=DURATION:PT1H
X-Robots-Tag:noindex
X-PUBLISHED-TTL:PT1H
BEGIN:VTIMEZONE
TZID:UTC
BEGIN:STANDARD
TZOFFSETFROM:+0000
TZOFFSETTO:+0000
TZNAME:UTC
DTSTART:20230101T000000
END:STANDARD
END:VTIMEZONE
BEGIN:VEVENT
DTSTART;TZID=UTC:20241023T120000
DTEND;TZID=UTC:20241214T170000
DTSTAMP:20260424T055739
CREATED:20240829T124520Z
LAST-MODIFIED:20240829T124520Z
UID:8745-1729684800-1734195600@kenaiartcenter.org
SUMMARY:KAC Christmas Ornament Sale
DESCRIPTION:  \n  \n \nThe First Annual KAC Christmas Ornament Sale is opening in the Gift Gallery at the Kenai Art Center on Wednesday October 23rd 2024.  We have invited some of your favorite artists to create their own original design hanging ornaments for the 2024 Christmas season. Made from wood\, glass\, metal\, fiber\, etc.  These ornaments are handmade\, one-of-a-kind originals.  Come and see our beautiful Christmas trees bedecked with creative and unique designs crafted just for this event. This sale from through October 23rd to December 14th. Questions? 907-283-7040 or kenaiartcenter@gmail.com \n 
URL:https://kenaiartcenter.org/event/kac-christmas-ornament-sale/
LOCATION:Kenai Art Center\, 816 Cook Ave\, Kenai\, AK\, 99611
CATEGORIES:2024 Events
ATTACH;FMTTYPE=image/png:https://kenaiartcenter.org/wp-content/uploads/2024/08/christmas-ornament-flier-copy.png
ORGANIZER;CN="Kenai Art Center":MAILTO:kenaiartcenter@gmail.com
END:VEVENT
BEGIN:VEVENT
DTSTART;TZID=UTC:20241214T100000
DTEND;TZID=UTC:20241214T170000
DTSTAMP:20260424T055739
CREATED:20231207T072100Z
LAST-MODIFIED:20240829T141222Z
UID:8202-1734170400-1734195600@kenaiartcenter.org
SUMMARY:Kenai Potters Guild Christmas Pottery Sale 2024
DESCRIPTION:  \nFind your perfect Christmas gifts at the Kenai Potters Guild Annual Christmas Sale 2024! \n 
URL:https://kenaiartcenter.org/event/kenai-potters-guild-christmas-pottery-sale-2023/
LOCATION:Kenai Art Center\, 816 Cook Ave\, Kenai\, AK\, 99611
CATEGORIES:Kenai Potters' Guild
ATTACH;FMTTYPE=image/png:https://kenaiartcenter.org/wp-content/uploads/2023/12/small-potters-guild-christmas-flier.png
ORGANIZER;CN="Kenai Art Center":MAILTO:kenaiartcenter@gmail.com
END:VEVENT
END:VCALENDAR