BEGIN:VCALENDAR
VERSION:2.0
PRODID:-//Kenai Art Center - ECPv6.15.20//NONSGML v1.0//EN
CALSCALE:GREGORIAN
METHOD:PUBLISH
X-WR-CALNAME:Kenai Art Center
X-ORIGINAL-URL:https://kenaiartcenter.org
X-WR-CALDESC:Events for Kenai Art Center
REFRESH-INTERVAL;VALUE=DURATION:PT1H
X-Robots-Tag:noindex
X-PUBLISHED-TTL:PT1H
BEGIN:VTIMEZONE
TZID:UTC
BEGIN:STANDARD
TZOFFSETFROM:+0000
TZOFFSETTO:+0000
TZNAME:UTC
DTSTART:20240101T000000
END:STANDARD
END:VTIMEZONE
BEGIN:VEVENT
DTSTART;TZID=UTC:20250215T140000
DTEND;TZID=UTC:20250215T153000
DTSTAMP:20260424T022543
CREATED:20250109T162950Z
LAST-MODIFIED:20250110T154428Z
UID:8970-1739628000-1739633400@kenaiartcenter.org
SUMMARY:BLADES OF BRASS Live In Concert
DESCRIPTION:Saturday February 15th 2 pm at the Kenai Art Center! BLADES OF BRASS is a new chamber ensemble based on the Kenai Peninsula. Established in 2024\, it was formed by a group of musicians that are passionate about sharing the excitement and beauty of brass instruments! They will be performing classical works that demonstrate the power and lyricism of brass instruments\, fun and lively selections of famous jazz tunes\, and a lovely tango by Astor Piazzolaa. BLADES OF BRASS is also excited to perform music by contemporary composer Anthony Plog. \nTickets: $10 each (students free). Pick up your tickets at the Kenai Art Center (816 Cook Avenue in Oldtown Kenai). We’re open 12–5 pm Wednesday through Saturday. \nAll proceeds will benefit the Soldotna High School and Homer High School bands.  More BLADES OF BRASS info: https://homerart.org/event/blades-of-brass/ \nThe Kenai Art Center will be closed to the public at 1:30 pm on Saturday February 15th for this special concert and will be open for all concert ticket holders.
URL:https://kenaiartcenter.org/event/blads-of-brass-live-in-concert/
LOCATION:AK
CATEGORIES:Live Music
ATTACH;FMTTYPE=image/png:https://kenaiartcenter.org/wp-content/uploads/2025/01/blades-of-brass.png
ORGANIZER;CN="Kenai Art Center":MAILTO:kenaiartcenter@gmail.com
END:VEVENT
BEGIN:VEVENT
DTSTART;TZID=UTC:20250215T160000
DTEND;TZID=UTC:20250215T173000
DTSTAMP:20260424T022543
CREATED:20250114T072459Z
LAST-MODIFIED:20250116T073214Z
UID:8982-1739635200-1739640600@kenaiartcenter.org
SUMMARY:HAND-BUILD a MUG with Daisy and your Valentine at the KAC!
DESCRIPTION:Food\, drinks\, Pottery…and Valentine’s weekend! \nDaisy Jeffords (local artist and potter) is excited to hold this Valentine themed hand-building pottery workshop at the Kenai Art Center. \nFriday Feb 14th @ 7 pm\, Saturday February 15th @ 4 pm\,  or 7 pm. $70 per person or $140 per couple. A great way to celebrate ART and Valentine’s weekend! No experience needed–beginner friendly. \nIncluded in workshop fee: Instruction and Assistance in building a custom hand-built clay mug\, fired mug\, complimentary Kombucha from Wild Currant\, and a complimentary Wild Currant Brownie ice cream dessert. \nTO RESERVE A SPOT for one of the workshops\, or for questions for Daisy\, please go here: daisyjeffordspottery.com
URL:https://kenaiartcenter.org/event/hand-build-a-mug-with-daisy-and-your-valentine-at-the-kac-2/
LOCATION:Kenai Art Center\, 816 Cook Ave\, Kenai\, AK\, 99611
CATEGORIES:Workshops
ATTACH;FMTTYPE=image/png:https://kenaiartcenter.org/wp-content/uploads/2025/01/Daisy-Jeffords-workshop-flier-1-copy.png
END:VEVENT
BEGIN:VEVENT
DTSTART;TZID=UTC:20250215T190000
DTEND;TZID=UTC:20250215T203000
DTSTAMP:20260424T022543
CREATED:20250114T074514Z
LAST-MODIFIED:20250116T073124Z
UID:8987-1739646000-1739651400@kenaiartcenter.org
SUMMARY:HAND-BUILD a MUG with Daisy and your Valentine at the KAC!
DESCRIPTION:Food\, drinks\, ART…and Valentine’s weekend! \nDaisy Jeffords (local artist and potter) is excited to hold this Valentine themed hand-building pottery workshop at the Kenai Art Center. \nFriday Feb 14th @ 7 pm\, Saturday February 15th @ 4 pm\,  or 7 pm. $70 per person or $140 per couple. A great way to celebrate ART and Valentine’s weekend! No experience needed–beginner friendly. \nIncluded in workshop fee: Instruction and Assistance in building a custom hand-built clay mug\, fired mug\, complimentary Kombucha from Wild Currant\, and a complimentary Wild Currant Brownie ice cream dessert. \nTO RESERVE A SPOT for one of the workshops\, or for questions for Daisy\, please go here: daisyjeffordspottery.com
URL:https://kenaiartcenter.org/event/hand-build-a-mug-with-daisy-and-your-valentine-at-the-kac-3/
LOCATION:Kenai Art Center\, 816 Cook Ave\, Kenai\, AK\, 99611
CATEGORIES:Workshops
ATTACH;FMTTYPE=image/png:https://kenaiartcenter.org/wp-content/uploads/2025/01/Daisy-Jeffords-workshop-flier-1-copy.png
END:VEVENT
END:VCALENDAR