BEGIN:VCALENDAR
VERSION:2.0
PRODID:-//Kenai Art Center - ECPv6.15.20//NONSGML v1.0//EN
CALSCALE:GREGORIAN
METHOD:PUBLISH
X-ORIGINAL-URL:https://kenaiartcenter.org
X-WR-CALDESC:Events for Kenai Art Center
REFRESH-INTERVAL;VALUE=DURATION:PT1H
X-Robots-Tag:noindex
X-PUBLISHED-TTL:PT1H
BEGIN:VTIMEZONE
TZID:UTC
BEGIN:STANDARD
TZOFFSETFROM:+0000
TZOFFSETTO:+0000
TZNAME:UTC
DTSTART:20240101T000000
END:STANDARD
END:VTIMEZONE
BEGIN:VEVENT
DTSTART;TZID=UTC:20250222T130000
DTEND;TZID=UTC:20250222T160000
DTSTAMP:20260424T022604
CREATED:20241121T091732Z
LAST-MODIFIED:20250218T153317Z
UID:8902-1740229200-1740240000@kenaiartcenter.org
SUMMARY:Jelly Plate Printing with artist Diane Peterson
DESCRIPTION:(THIS WORKSHOP HAS BEEN CANCELLED) Come and learn from artist Diane Peterson how how create beautiful prints with jelly pigment. \nSaturday February 22nd 1–4 pm.  For ages 15+ \nCost: $30 \nTo reserve your spot\, Venmo the artist at @Diane-Peterson-888\, call or stop by the Kenai Art Center to get your name on the list. Payment is due before start of the workshop. \n816 Cook Avenue\, Kenai (in oldtown across from the Bingo Hall) \n907-283-7040. \n 
URL:https://kenaiartcenter.org/event/jelly-plate-printing-with-artist-diane-peterson/
LOCATION:AK
CATEGORIES:Workshops
ATTACH;FMTTYPE=image/png:https://kenaiartcenter.org/wp-content/uploads/2024/11/2diane-dunn-workshop-image-copy.png
ORGANIZER;CN="Kenai Art Center":MAILTO:kenaiartcenter@gmail.com
END:VEVENT
END:VCALENDAR