BEGIN:VCALENDAR
VERSION:2.0
PRODID:-//Kenai Art Center - ECPv6.15.20//NONSGML v1.0//EN
CALSCALE:GREGORIAN
METHOD:PUBLISH
X-WR-CALNAME:Kenai Art Center
X-ORIGINAL-URL:https://kenaiartcenter.org
X-WR-CALDESC:Events for Kenai Art Center
REFRESH-INTERVAL;VALUE=DURATION:PT1H
X-Robots-Tag:noindex
X-PUBLISHED-TTL:PT1H
BEGIN:VTIMEZONE
TZID:UTC
BEGIN:STANDARD
TZOFFSETFROM:+0000
TZOFFSETTO:+0000
TZNAME:UTC
DTSTART:20240101T000000
END:STANDARD
END:VTIMEZONE
BEGIN:VEVENT
DTSTART;TZID=UTC:20250322T120000
DTEND;TZID=UTC:20250322T170000
DTSTAMP:20260424T004631
CREATED:20250306T163022Z
LAST-MODIFIED:20250306T163022Z
UID:9070-1742644800-1742662800@kenaiartcenter.org
SUMMARY:BATIK EGG Workshop with Artist Sandra Lewis
DESCRIPTION:Join artist Sandra Lewis as she teaches the steps to making beautiful batik eggs in time for Easter! Saturday March 22nd 12–5 pm at the Kenai Art Center. $40 per person. \nWe only have 10 spots available for this workshop\, so contact Sandra at sklewis60@gmail.com to reserve your spot and for payment details. All supplies included in workshop fees. Participants 16 and older only. \n 
URL:https://kenaiartcenter.org/event/batik-egg-workshop-with-artist-sandra-lewis/
LOCATION:Kenai Art Center\, 816 Cook Ave\, Kenai\, AK\, 99611
CATEGORIES:Workshops
ATTACH;FMTTYPE=image/png:https://kenaiartcenter.org/wp-content/uploads/2025/03/Batik-Egg-workshop.png
END:VEVENT
END:VCALENDAR