BEGIN:VCALENDAR
VERSION:2.0
PRODID:-//Kenai Art Center - ECPv6.15.20//NONSGML v1.0//EN
CALSCALE:GREGORIAN
METHOD:PUBLISH
X-ORIGINAL-URL:https://kenaiartcenter.org
X-WR-CALDESC:Events for Kenai Art Center
REFRESH-INTERVAL;VALUE=DURATION:PT1H
X-Robots-Tag:noindex
X-PUBLISHED-TTL:PT1H
BEGIN:VTIMEZONE
TZID:UTC
BEGIN:STANDARD
TZOFFSETFROM:+0000
TZOFFSETTO:+0000
TZNAME:UTC
DTSTART:20240101T000000
END:STANDARD
END:VTIMEZONE
BEGIN:VEVENT
DTSTART;TZID=UTC:20250609T180000
DTEND;TZID=UTC:20250609T210000
DTSTAMP:20260423T194808
CREATED:20250602T135939Z
LAST-MODIFIED:20250602T135939Z
UID:9245-1749492000-1749502800@kenaiartcenter.org
SUMMARY:Life Drawing at the KAC--Members Only Event
DESCRIPTION:
URL:https://kenaiartcenter.org/event/life-drawing-at-the-kac-members-only-event/
LOCATION:AK
ATTACH;FMTTYPE=image/png:https://kenaiartcenter.org/wp-content/uploads/2025/06/life-drawing-event.png
ORGANIZER;CN="Kenai Art Center":MAILTO:kenaiartcenter@gmail.com
END:VEVENT
END:VCALENDAR