BEGIN:VCALENDAR
VERSION:2.0
PRODID:-//Kenai Art Center - ECPv6.15.20//NONSGML v1.0//EN
CALSCALE:GREGORIAN
METHOD:PUBLISH
X-WR-CALNAME:Kenai Art Center
X-ORIGINAL-URL:https://kenaiartcenter.org
X-WR-CALDESC:Events for Kenai Art Center
REFRESH-INTERVAL;VALUE=DURATION:PT1H
X-Robots-Tag:noindex
X-PUBLISHED-TTL:PT1H
BEGIN:VTIMEZONE
TZID:UTC
BEGIN:STANDARD
TZOFFSETFROM:+0000
TZOFFSETTO:+0000
TZNAME:UTC
DTSTART:20240101T000000
END:STANDARD
END:VTIMEZONE
BEGIN:VEVENT
DTSTART;TZID=UTC:20250704T120000
DTEND;TZID=UTC:20250704T170000
DTSTAMP:20260423T175441
CREATED:20250619T072602Z
LAST-MODIFIED:20250619T072641Z
UID:9288-1751630400-1751648400@kenaiartcenter.org
SUMMARY:Closed For 4TH of JULY Holiday!
DESCRIPTION:Due to the 4th of July Holiday\, the KAC will be closed on the 4th.  We will be open for the 5th and 6th though–getting ready for the upcoming RIVER and FRUITS OF OUR LABOR shows opening on Friday July 11th 5– 7 pm. More info: https://kenaiartcenter.org/events/month/2025-07/ \n 
URL:https://kenaiartcenter.org/event/closed-for-4th-of-july-holiday/
LOCATION:AK
ATTACH;FMTTYPE=image/png:https://kenaiartcenter.org/wp-content/uploads/2025/06/july-holiday-closure.png
END:VEVENT
END:VCALENDAR