BEGIN:VCALENDAR
VERSION:2.0
PRODID:-//Kenai Art Center - ECPv6.15.20//NONSGML v1.0//EN
CALSCALE:GREGORIAN
METHOD:PUBLISH
X-ORIGINAL-URL:https://kenaiartcenter.org
X-WR-CALDESC:Events for Kenai Art Center
REFRESH-INTERVAL;VALUE=DURATION:PT1H
X-Robots-Tag:noindex
X-PUBLISHED-TTL:PT1H
BEGIN:VTIMEZONE
TZID:UTC
BEGIN:STANDARD
TZOFFSETFROM:+0000
TZOFFSETTO:+0000
TZNAME:UTC
DTSTART:20230101T000000
END:STANDARD
END:VTIMEZONE
BEGIN:VEVENT
DTSTART;TZID=UTC:20240914T090000
DTEND;TZID=UTC:20240914T120000
DTSTAMP:20260425T051705
CREATED:20240910T103324Z
LAST-MODIFIED:20240910T103347Z
UID:8777-1726304400-1726315200@kenaiartcenter.org
SUMMARY:Kpen ArtHive
DESCRIPTION:Come join us the second Saturday of the month to make art for free in our art center. We provide the art supplies and you provide the ideas and creativity to create and take home your own artwork! All levels and all ages welcome and it’s completely free! We have support staff here if needed–if not\, just let yourself go! For Questions: kenaiartcenter@gmail.com or call Diane 503-880-1498. \n 
URL:https://kenaiartcenter.org/event/kpen-arthive-3/
LOCATION:Kenai Art Center\, 816 Cook Ave\, Kenai\, AK\, 99611
CATEGORIES:2024 Events
ATTACH;FMTTYPE=image/png:https://kenaiartcenter.org/wp-content/uploads/2021/04/Kpen-ArtHive-web-ad-copy.png
END:VEVENT
END:VCALENDAR