BEGIN:VCALENDAR
VERSION:2.0
PRODID:-//Kenai Art Center - ECPv6.15.20//NONSGML v1.0//EN
CALSCALE:GREGORIAN
METHOD:PUBLISH
X-ORIGINAL-URL:https://kenaiartcenter.org
X-WR-CALDESC:Events for Kenai Art Center
REFRESH-INTERVAL;VALUE=DURATION:PT1H
X-Robots-Tag:noindex
X-PUBLISHED-TTL:PT1H
BEGIN:VTIMEZONE
TZID:UTC
BEGIN:STANDARD
TZOFFSETFROM:+0000
TZOFFSETTO:+0000
TZNAME:UTC
DTSTART:20240101T000000
END:STANDARD
END:VTIMEZONE
BEGIN:VEVENT
DTSTART;TZID=UTC:20250905T170000
DTEND;TZID=UTC:20250905T190000
DTSTAMP:20260424T043650
CREATED:20250716T090257Z
LAST-MODIFIED:20250807T011339Z
UID:9367-1757091600-1757098800@kenaiartcenter.org
SUMMARY:HARVEST ART AUCTION 2025
DESCRIPTION:  \nThe Silent Art Auction and live Outcry Auction are both back in full force in September 2025!  \nThe Silent Auction opens at our First Friday Opening Reception September 5th 5–7 pm. Live Outcry Auction September 27th 6 pm. \nThe largest annual fundraiser for the Kenai Art Center is just around the corner. The Kenai Art Center is 100% funded by private donors and we couldn’t exist without this support.  \nThe KAC staff has handpicked and invited your favorite KAC artists\, potters and local businesses to participate by donating unique and original art and valuable goods and services for auction at our biggest fundraising event of the year.  \nThe Silent Auction bidding starts September 5th at the First Friday Opening Reception. The Live Outcry Auction will happen on Saturday September 27th at 6 pm.   Drinks and catered hors d’oeuvres will be served at the Outcry Auction. \n This year we are collaborating with the Kenai Potters Guild and will be auctioning off beautiful stoneware platters crafted by the potters and decorated by KAC artists.  \nVisit the gallery often during the month to place your bids on the bid sheet next to the silent auction art works\, right up until September 27th.   \nThe Outcry Auction art is also on display for the month\, so you can see which pieces to bid on in person–but get your tickets if you want to be part of the Outcry Auction on the 27th.  \nThis fundraiser supports the Kenai Art Center’s workshops\, programs\, and preservation of our historic old town Kenai building.  Many thanks to everyone for supporting and  participating! \nGet your tickets here in the QR code below–but keep your receipt–your receipt is your ticket! 
URL:https://kenaiartcenter.org/event/harvest-art-auction-2025/
LOCATION:Kenai Art Center\, 816 Cook Ave\, Kenai\, AK\, 99611
CATEGORIES:Annual Events,Call For Art,Community Events,Exhibitions,First Friday,First Friday
ATTACH;FMTTYPE=image/png:https://kenaiartcenter.org/wp-content/uploads/2025/07/HAA-2025-updated-promo-copy.png
ORGANIZER;CN="Kenai Art Center":MAILTO:kenaiartcenter@gmail.com
END:VEVENT
END:VCALENDAR