BEGIN:VCALENDAR
VERSION:2.0
PRODID:-//Kenai Art Center - ECPv6.15.20//NONSGML v1.0//EN
CALSCALE:GREGORIAN
METHOD:PUBLISH
X-WR-CALNAME:Kenai Art Center
X-ORIGINAL-URL:https://kenaiartcenter.org
X-WR-CALDESC:Events for Kenai Art Center
REFRESH-INTERVAL;VALUE=DURATION:PT1H
X-Robots-Tag:noindex
X-PUBLISHED-TTL:PT1H
BEGIN:VTIMEZONE
TZID:UTC
BEGIN:STANDARD
TZOFFSETFROM:+0000
TZOFFSETTO:+0000
TZNAME:UTC
DTSTART:20240101T000000
END:STANDARD
END:VTIMEZONE
BEGIN:VEVENT
DTSTART;TZID=UTC:20250927T180000
DTEND;TZID=UTC:20250927T200000
DTSTAMP:20260424T043345
CREATED:20250717T090810Z
LAST-MODIFIED:20250922T062826Z
UID:9374-1758996000-1759003200@kenaiartcenter.org
SUMMARY:Live Outcry Auction
DESCRIPTION:  \n \n  \nSaturday September 27th is the event where YOU can get the last bids in on the Silent Art Auction items that have been on exhibit for September and the ONLY chance you will have to bid on the live outcry art auction items. \nThe largest fundraiser for the Kenai Art Center is just around the corner. The Kenai Art Center is 100% funded by private donors and we couldn’t exist without this support. The Silent Art Auction and live Outcry Auction are both back in full force in September 2025! \nThe KAC staff has handpicked your favorite artists and local businesses to participate by donating unique and original art and valuable goods and services for auction at our biggest fundraising event of the year. \nThe Silent Auction bidding starts September 5th at the First Friday Opening Reception. Visit the gallery often during the month to place your bids on the bid sheet next to the silent auction art works\, right up until September 27th. The Silent Art auction closes to the public at 5 pm on Saturday September 27th. The Live Outcry Auction will happen on Saturday September 27th at 6 pm.   Drinks and catered hors d’oeuvres will be served at the Outcry Auction. \nThe Live Outcry Auction art is also on display for the month\, so you can see which pieces to bid on in person–but get your tickets if you want to be part of the Outcry Auction on the 27th. \nThis fundraiser supports the Kenai Art Center’s workshops\, programs\, and preservation of our historic old town Kenai building.  Many thanks to everyone for supporting and  participating! \nFor tickets: https://square.link/u/49AI0QTY?src=webqr \nOr stop by the KAC to reserve your seats in person.
URL:https://kenaiartcenter.org/event/live-outcry-auction/
LOCATION:Kenai Art Center\, 816 Cook Ave\, Kenai\, AK\, 99611
CATEGORIES:Annual Events
ATTACH;FMTTYPE=image/png:https://kenaiartcenter.org/wp-content/uploads/2025/07/HAA-2025-updated-promo-copy.png
ORGANIZER;CN="Kenai Art Center":MAILTO:kenaiartcenter@gmail.com
END:VEVENT
END:VCALENDAR