BEGIN:VCALENDAR
VERSION:2.0
PRODID:-//Kenai Art Center - ECPv6.15.20//NONSGML v1.0//EN
CALSCALE:GREGORIAN
METHOD:PUBLISH
X-WR-CALNAME:Kenai Art Center
X-ORIGINAL-URL:https://kenaiartcenter.org
X-WR-CALDESC:Events for Kenai Art Center
REFRESH-INTERVAL;VALUE=DURATION:PT1H
X-Robots-Tag:noindex
X-PUBLISHED-TTL:PT1H
BEGIN:VTIMEZONE
TZID:UTC
BEGIN:STANDARD
TZOFFSETFROM:+0000
TZOFFSETTO:+0000
TZNAME:UTC
DTSTART:20240101T000000
END:STANDARD
END:VTIMEZONE
BEGIN:VEVENT
DTSTART;TZID=UTC:20251127T080000
DTEND;TZID=UTC:20260304T170000
DTSTAMP:20260423T152405
CREATED:20251127T105425Z
LAST-MODIFIED:20251127T110251Z
UID:9610-1764230400-1772643600@kenaiartcenter.org
SUMMARY:CALL FOR ARTISTS...to teach workshops at the KAC
DESCRIPTION:The KAC is looking for experienced artists to teach workshops at the Kenai Art Center in 2026. \nPainting\, drawing\, clay works\, fiber\, collage\, weaving\, print making\, etc! If you love creating and teaching others how to create\, we would love to host your workshop here at the KAC. \nWorkshop artists are responsible for: \n\nPoint of sale for all workshop fees\n$45  building use fee (payable to the KAC before or on the day of the workshop)\nall workshop materials\n\nWorkshop artists keep 100% of workshop fees. The KAC will provide advertising\, tables\, chairs\, and other support items. \nIf you would like to be considered for booking a workshop with us\, please contact us via email at kenaiartcenter@gmail.com (attention Charlotte). Please include: \n\nA clear and detailed description of your workshop idea\nImages of the finished the product\nAn artist statement telling us why your workshop will help grow creativity and the love of arts in our area.\n\n  \n  \n 
URL:https://kenaiartcenter.org/event/call-for-artists-to-teach-workshops-at-the-kac/
LOCATION:AK
CATEGORIES:Around the Community,Call For Art,Workshops
ATTACH;FMTTYPE=image/png:https://kenaiartcenter.org/wp-content/uploads/2025/11/workshop-call-for-artists.png
END:VEVENT
BEGIN:VEVENT
DTSTART;TZID=UTC:20260207T143000
DTEND;TZID=UTC:20260207T154500
DTSTAMP:20260423T152405
CREATED:20251209T061717Z
LAST-MODIFIED:20260124T153841Z
UID:9638-1770474600-1770479100@kenaiartcenter.org
SUMMARY:BLADES OF BRASS Benefit Concert Live at the KAC!
DESCRIPTION:The BLADES OF BRASS are back! Join us on Saturday February 7th for another live concert to benefit the SOHI and Homer High School band programs. \nEstablished in 2024\, Blades of Brass is composed of musicians from Homer to Kenai that are passionate about sharing the excitement and beauty of brass instruments. Come enjoy an afternoon of classical\, jazz\, and contemporary music! \nSuggested donation: $15 per adult. Students and kids attend for free! All proceeds go to the SOHI and Homer High School band programs. \nTickets available at the door (CASH ONLY)  or online: https://venmo.com/u/Frances-Jurek \n  \n 
URL:https://kenaiartcenter.org/event/blades-of-brass-benefit-concert-live-at-the-kac/
LOCATION:Kenai Art Center\, 816 Cook Ave\, Kenai\, AK\, 99611
CATEGORIES:Around the Community,Live Music
ATTACH;FMTTYPE=image/jpeg:https://kenaiartcenter.org/wp-content/uploads/2025/12/IMG_9065.jpeg
END:VEVENT
END:VCALENDAR