BEGIN:VCALENDAR
VERSION:2.0
PRODID:-//Kenai Art Center - ECPv6.15.20//NONSGML v1.0//EN
CALSCALE:GREGORIAN
METHOD:PUBLISH
X-ORIGINAL-URL:https://kenaiartcenter.org
X-WR-CALDESC:Events for Kenai Art Center
REFRESH-INTERVAL;VALUE=DURATION:PT1H
X-Robots-Tag:noindex
X-PUBLISHED-TTL:PT1H
BEGIN:VTIMEZONE
TZID:UTC
BEGIN:STANDARD
TZOFFSETFROM:+0000
TZOFFSETTO:+0000
TZNAME:UTC
DTSTART:20250101T000000
END:STANDARD
END:VTIMEZONE
BEGIN:VEVENT
DTSTART;TZID=UTC:20260509T090000
DTEND;TZID=UTC:20260509T120000
DTSTAMP:20260423T135124
CREATED:20260110T054330Z
LAST-MODIFIED:20260408T010049Z
UID:9701-1778317200-1778328000@kenaiartcenter.org
SUMMARY:KPen ArtHive
DESCRIPTION:The KPEN ArtHive is Back! What’s an arthive? It’s a global community-based art studio that provides free access to materials and welcoming spaces for self-directed creativity\, skill-sharing\, and community building.  This event will happen the second Saturday of each month from 9 am to 12 pm. Come and go as you please! \nThe KAC hosts the only ArtHive in Alaska and our purpose is to support local established and upcoming or new artists. It’s a great opportunity to create art\, get to know other artists\, and to get art guidance if you are looking for it. This event is free and open to the public. Children must be accompanied by an adult. All art created by you can be taken home.  For questions\, please call Diane at 503-880-1498.
URL:https://kenaiartcenter.org/event/kpen-arthive-9/
LOCATION:Kenai Art Center\, 816 Cook Ave\, Kenai\, AK\, 99611
CATEGORIES:Around the Community,Workshops
ATTACH;FMTTYPE=image/png:https://kenaiartcenter.org/wp-content/uploads/2025/09/Kpen-ArtHive-copy.png
ORGANIZER;CN="Diane Dunn":MAILTO:darkfruitfly@gmail.com
END:VEVENT
BEGIN:VEVENT
DTSTART;TZID=UTC:20260509T100000
DTEND;TZID=UTC:20260509T170000
DTSTAMP:20260423T135124
CREATED:20260221T073742Z
LAST-MODIFIED:20260221T074738Z
UID:9816-1778320800-1778346000@kenaiartcenter.org
SUMMARY:Kenai Potters Guild MOTHER'S DAY POTTERY SALE
DESCRIPTION:MOTHER’S DAY POTTERY SALE by the Kenai Potters Guild \nThe Potters Guild (in the same building as Kenai Art Center) will be selling all types of pottery from bowls to cups and dishes to platters. Stop by and pick up a unique\, beautiful hand-crafted gift by one of our local potters. Your mom will love it! \nFor more details: https://www.facebook.com/profile.php?id=100082007225198
URL:https://kenaiartcenter.org/event/kenai-potters-guild-mothers-day-pottery-sale-3/
LOCATION:Kenai Art Center\, 816 Cook Ave\, Kenai\, AK\, 99611
CATEGORIES:Around the Community,Kenai Potters' Guild
ATTACH;FMTTYPE=image/png:https://kenaiartcenter.org/wp-content/uploads/2026/02/KPG-mothers-day-sale-2026-copy.png
END:VEVENT
END:VCALENDAR