BEGIN:VCALENDAR
VERSION:2.0
PRODID:-//Kenai Art Center - ECPv6.15.20//NONSGML v1.0//EN
CALSCALE:GREGORIAN
METHOD:PUBLISH
X-WR-CALNAME:Kenai Art Center
X-ORIGINAL-URL:https://kenaiartcenter.org
X-WR-CALDESC:Events for Kenai Art Center
REFRESH-INTERVAL;VALUE=DURATION:PT1H
X-Robots-Tag:noindex
X-PUBLISHED-TTL:PT1H
BEGIN:VTIMEZONE
TZID:UTC
BEGIN:STANDARD
TZOFFSETFROM:+0000
TZOFFSETTO:+0000
TZNAME:UTC
DTSTART:20250101T000000
END:STANDARD
END:VTIMEZONE
BEGIN:VEVENT
DTSTART;TZID=UTC:20260602T173000
DTEND;TZID=UTC:20260602T190000
DTSTAMP:20260423T152406
CREATED:20260326T122959Z
LAST-MODIFIED:20260326T122959Z
UID:9868-1780421400-1780426800@kenaiartcenter.org
SUMMARY:100 WOMEN WHO CARE 2nd Quarter Meeting
DESCRIPTION:Want to change our community but aren’t sure how? Want to learn how others are already making changes for good? \nJoin us for an inspiring summer evening of connection\, community\, and collective impact. No long commitments. No complicated process. Just women coming together to make an immediate\, meaningful impact on the Kenai Peninsula. The Kenai Art Center will be hosting this upcoming event. Open to the public. Free to attend. \nMore info about 100 Women Who Care: https://www.grapevine.org/giving-circle/bpWhMrK/100-Women-Who-Care-Soldotna-Kenai/post/43Lsgk4
URL:https://kenaiartcenter.org/event/100-women-who-care-2nd-quarter-meeting/
LOCATION:Kenai Art Center\, 816 Cook Ave\, Kenai\, AK\, 99611
CATEGORIES:Around the Community,Community Events
ATTACH;FMTTYPE=image/png:https://kenaiartcenter.org/wp-content/uploads/2026/03/100.png
END:VEVENT
END:VCALENDAR