BEGIN:VCALENDAR
VERSION:2.0
PRODID:-//Kenai Art Center - ECPv6.15.20//NONSGML v1.0//EN
CALSCALE:GREGORIAN
METHOD:PUBLISH
X-ORIGINAL-URL:https://kenaiartcenter.org
X-WR-CALDESC:Events for Kenai Art Center
REFRESH-INTERVAL;VALUE=DURATION:PT1H
X-Robots-Tag:noindex
X-PUBLISHED-TTL:PT1H
BEGIN:VTIMEZONE
TZID:UTC
BEGIN:STANDARD
TZOFFSETFROM:+0000
TZOFFSETTO:+0000
TZNAME:UTC
DTSTART:20200101T000000
END:STANDARD
END:VTIMEZONE
BEGIN:VEVENT
DTSTART;TZID=UTC:20260403T170000
DTEND;TZID=UTC:20260403T190000
DTSTAMP:20260423T132252
CREATED:20251023T073656Z
LAST-MODIFIED:20260330T190856Z
UID:9541-1775235600-1775242800@kenaiartcenter.org
SUMMARY:KPBSD Annual Student Art Show
DESCRIPTION:35th Annual KPBSD Student Art Show. \nEvery year the main and back galleries at the KAC exhibit creative\, unique and inspiring art from the minds of our local students.  In the main gallery we show the works of high school students. The back gallery showcases the middle school art works. The KPBSD art teachers hang the work. We would like to thank judges Bryan Olds\, Joshua Ostraff\, and Susan Watkins for volunteering their time to award prizes. The KAC loves to help support these middle school and high school artists and we invite you to come and enjoy this show. \nThe First Friday Opening Reception will be Friday April 3rd at 5:00 pm. The show runs from April 1 through April 24th. This is a free event. Open to the Public. \n 
URL:https://kenaiartcenter.org/event/kpbsd-annual-student-art-show/
LOCATION:Kenai Art Center\, 816 Cook Ave\, Kenai\, AK\, 99611
CATEGORIES:Around the Community,Community Events,First Friday
ATTACH;FMTTYPE=image/png:https://kenaiartcenter.org/wp-content/uploads/2025/10/kpbsd-2026-promo.png
ORGANIZER;CN="Kenai Art Center":MAILTO:kenaiartcenter@gmail.com
END:VEVENT
BEGIN:VEVENT
DTSTART;TZID=UTC:20260214T090000
DTEND;TZID=UTC:20260214T120000
DTSTAMP:20260423T132252
CREATED:20260110T053008Z
LAST-MODIFIED:20260110T054039Z
UID:9696-1771059600-1771070400@kenaiartcenter.org
SUMMARY:Kpen ArtHive
DESCRIPTION:The KPEN ArtHive is Back! What’s an arthive? It’s a global community-based art studio that provides free access to materials and welcoming spaces for self-directed creativity\, skill-sharing\, and community building.  This event will happen the second Saturday of each month from 9 am to 12 pm. Come and go as you please! \nThe KAC hosts the only ArtHive in Alaska and our purpose is to support local established and upcoming or new artists. It’s a great opportunity to create art\, get to know other artists\, and to get art guidance if you are looking for it. This event is free and open to the public. Children must be accompanied by an adult. All art created by you can be taken home.  For questions\, please call Diane at 503-880-1498.
URL:https://kenaiartcenter.org/event/kpen-arthive-8/
LOCATION:Kenai Art Center\, 816 Cook Ave\, Kenai\, AK\, 99611
CATEGORIES:Around the Community
ATTACH;FMTTYPE=image/png:https://kenaiartcenter.org/wp-content/uploads/2025/09/Kpen-ArtHive-copy.png
END:VEVENT
BEGIN:VEVENT
DTSTART;TZID=UTC:20260213T190000
DTEND;TZID=UTC:20260213T200000
DTSTAMP:20260423T132252
CREATED:20260110T061111Z
LAST-MODIFIED:20260110T062000Z
UID:9704-1771009200-1771012800@kenaiartcenter.org
SUMMARY:THE CREEL Play by Kate Rich
DESCRIPTION:The Creel \nBy Kate Rich\nDirected by Jennifer Norton\nFriday February 13th. 7 Pm \n$20 Adults     $10 Youth \n“The Creel” by Kate Rich\, was written\, and is presented\, in conjunction with the exhibit “Connected” by Sharlene Cline. Her immersive installation is an exploration of our shared humanity. “The Creel” is a one act play centered around the gifts women hand down from generation to generation. In this story\, it is 1974. Ella\, a college dropout grappling with the sudden loss of her mother\, is guided by a tenacious ancestor from 1845. \nThe cast includes Rebecca Trowbridge\, Adele Person\, Deb Rowzee\, & Van Hawkins \nThis play will be performed on one night only at the Kenai Arts Center on February 13\, 2025\, at 7PM \nFor Tickets: https://pieronetheatre.ludus.com/index.php?sections=events \n 
URL:https://kenaiartcenter.org/event/the-creel-play-by-kate-rich/
LOCATION:Kenai Art Center\, 816 Cook Ave\, Kenai\, AK\, 99611
CATEGORIES:Around the Community
ATTACH;FMTTYPE=image/png:https://kenaiartcenter.org/wp-content/uploads/2026/01/The-Creel-Kenai-Flyer-1.png
ORGANIZER;CN="Kenai Art Center":MAILTO:kenaiartcenter@gmail.com
END:VEVENT
BEGIN:VEVENT
DTSTART;TZID=UTC:20260207T143000
DTEND;TZID=UTC:20260207T154500
DTSTAMP:20260423T132252
CREATED:20251209T061717Z
LAST-MODIFIED:20260124T153841Z
UID:9638-1770474600-1770479100@kenaiartcenter.org
SUMMARY:BLADES OF BRASS Benefit Concert Live at the KAC!
DESCRIPTION:The BLADES OF BRASS are back! Join us on Saturday February 7th for another live concert to benefit the SOHI and Homer High School band programs. \nEstablished in 2024\, Blades of Brass is composed of musicians from Homer to Kenai that are passionate about sharing the excitement and beauty of brass instruments. Come enjoy an afternoon of classical\, jazz\, and contemporary music! \nSuggested donation: $15 per adult. Students and kids attend for free! All proceeds go to the SOHI and Homer High School band programs. \nTickets available at the door (CASH ONLY)  or online: https://venmo.com/u/Frances-Jurek \n  \n 
URL:https://kenaiartcenter.org/event/blades-of-brass-benefit-concert-live-at-the-kac/
LOCATION:Kenai Art Center\, 816 Cook Ave\, Kenai\, AK\, 99611
CATEGORIES:Around the Community,Live Music
ATTACH;FMTTYPE=image/jpeg:https://kenaiartcenter.org/wp-content/uploads/2025/12/IMG_9065.jpeg
END:VEVENT
BEGIN:VEVENT
DTSTART;TZID=UTC:20260116T120000
DTEND;TZID=UTC:20260116T170000
DTSTAMP:20260423T132252
CREATED:20260117T044544Z
LAST-MODIFIED:20260117T044544Z
UID:9713-1768564800-1768582800@kenaiartcenter.org
SUMMARY:KAC Closure due to weather and road conditions
DESCRIPTION:We love our volunteers\, staff\, art patrons and first responders\, so for you safety\, we will be closed today.
URL:https://kenaiartcenter.org/event/kac-closure-due-to-weather-and-road-conditions/
LOCATION:Kenai Art Center\, 816 Cook Ave\, Kenai\, AK\, 99611
CATEGORIES:Around the Community
ATTACH;FMTTYPE=image/png:https://kenaiartcenter.org/wp-content/uploads/2026/01/closure.png
ORGANIZER;CN="Kenai Art Center":MAILTO:kenaiartcenter@gmail.com
END:VEVENT
BEGIN:VEVENT
DTSTART;TZID=UTC:20260110T090000
DTEND;TZID=UTC:20260110T120000
DTSTAMP:20260423T132252
CREATED:20251023T071948Z
LAST-MODIFIED:20260110T052546Z
UID:9537-1768035600-1768046400@kenaiartcenter.org
SUMMARY:KPEN ArtHIVE
DESCRIPTION:The KPEN ArtHive is Back! What’s an arthive? It’s a global community-based art studio that provides free access to materials and welcoming spaces for self-directed creativity\, skill-sharing\, and community building.  This event will happen the second Saturday of each month from 9 am to 12 pm. Come and go as you please! \nThe KAC hosts the only ArtHive in Alaska and our purpose is to support local established and upcoming or new artists. It’s a great opportunity to create art\, get to know other artists\, and to get art guidance if you are looking for it. This event is free and open to the public. Children must be accompanied by an adult. All art created by you can be taken home.  For questions\, please call Diane at 503-880-1498.
URL:https://kenaiartcenter.org/event/kpen-arthive-7/
LOCATION:AK
CATEGORIES:Around the Community,Community Events,Workshops
ATTACH;FMTTYPE=image/png:https://kenaiartcenter.org/wp-content/uploads/2025/09/Kpen-ArtHive-copy.png
END:VEVENT
BEGIN:VEVENT
DTSTART;TZID=UTC:20251127T080000
DTEND;TZID=UTC:20260304T170000
DTSTAMP:20260423T132252
CREATED:20251127T105425Z
LAST-MODIFIED:20251127T110251Z
UID:9610-1764230400-1772643600@kenaiartcenter.org
SUMMARY:CALL FOR ARTISTS...to teach workshops at the KAC
DESCRIPTION:The KAC is looking for experienced artists to teach workshops at the Kenai Art Center in 2026. \nPainting\, drawing\, clay works\, fiber\, collage\, weaving\, print making\, etc! If you love creating and teaching others how to create\, we would love to host your workshop here at the KAC. \nWorkshop artists are responsible for: \n\nPoint of sale for all workshop fees\n$45  building use fee (payable to the KAC before or on the day of the workshop)\nall workshop materials\n\nWorkshop artists keep 100% of workshop fees. The KAC will provide advertising\, tables\, chairs\, and other support items. \nIf you would like to be considered for booking a workshop with us\, please contact us via email at kenaiartcenter@gmail.com (attention Charlotte). Please include: \n\nA clear and detailed description of your workshop idea\nImages of the finished the product\nAn artist statement telling us why your workshop will help grow creativity and the love of arts in our area.\n\n  \n  \n 
URL:https://kenaiartcenter.org/event/call-for-artists-to-teach-workshops-at-the-kac/
LOCATION:AK
CATEGORIES:Around the Community,Call For Art,Workshops
ATTACH;FMTTYPE=image/png:https://kenaiartcenter.org/wp-content/uploads/2025/11/workshop-call-for-artists.png
END:VEVENT
BEGIN:VEVENT
DTSTART;TZID=UTC:20251114T170000
DTEND;TZID=UTC:20251114T190000
DTSTAMP:20260423T132252
CREATED:20250814T084156Z
LAST-MODIFIED:20251018T040827Z
UID:9430-1763139600-1763146800@kenaiartcenter.org
SUMMARY:JUST OUR TYPE featuring artists Meezie Hermansen and Kimberly Lorentzen
DESCRIPTION:Join us in our back gallery starting on November 14th for this two woman show titled JUST OUR TYPE. \nMeezie Hermansen and Kimberly Lorentzen will bring this interactive show to the KAC and in their words this exhibit is “intended to celebrate the written word and the themes of human experience in our community. We are together\, just our type of community…There is currently\, world-wide\, a resurgence of appreciation for the beauty of the manual typewriter as an elegant machine and of the physical experience of using it in a world that has become increasingly digital and virtual.”  \nIn the preceding months to the show opening\, be on the lookout for for staged public-use typewriters around town in coffee shops\, bookstores\, etc with invitations to share thoughts that will then be on display at this interactive exhibit. \nTheir idea was inspired by conversations asking the following questions: \n\nIf art heals\, can it heal the neglect of our physical bodies brought about by our minds’ engagement with a largely virtual world?\nCan the act of sharing thoughts publicly heal the separation that members of a community can feel in a society that has become increasingly divided along ideological lines in digital and virtual public discourse?\n\nThis show will open in tandem with the Mural Show opening reception in the main gallery on November 14th and will run thought December 19th. \nAbout the artists: \nMeezie Hermansen is a lifelong Cook Inlet setnetter and a small animal veterinarian with a love for the craft of writing.  This has brought her to the world of vintage typewriters.  Here\, she rediscovered the magic of seeing words appear physically in the world in real time\, with no easy editing\, resulting in a slower but more distilled writing process. \nKimberly Lorentzen grew up in rural Alaska where the village pace left plenty of time for curiosity and discovery. Whether writing\, painting\, or working in clay\, her goal is to showcase small wonders that are often missed\, to point at tiny marvels and yell\, “LOOK!” to anyone nearby. She uses whatever is at her disposal to do it.  She caught typewriter fever from her friend\, Meezie\, over long conversations about the trend toward all things fast and digital. \n 
URL:https://kenaiartcenter.org/event/just-our-type-featuring-artists-meezie-hermansen-and-kimberly-lorentzen/
LOCATION:AK
CATEGORIES:Around the Community,Community Events,Exhibitions,Live Music
ATTACH;FMTTYPE=image/png:https://kenaiartcenter.org/wp-content/uploads/2025/08/Just-Our-Type-copy.png
ORGANIZER;CN="Kenai Art Center":MAILTO:kenaiartcenter@gmail.com
END:VEVENT
BEGIN:VEVENT
DTSTART;TZID=UTC:20251011T090000
DTEND;TZID=UTC:20251011T120000
DTSTAMP:20260423T132252
CREATED:20250918T120438Z
LAST-MODIFIED:20250918T120438Z
UID:9461-1760173200-1760184000@kenaiartcenter.org
SUMMARY:The KPEN ArtHive
DESCRIPTION:The KPEN ArtHive is Back! What’s an arthive? It’s a global community-based art studio that provides free access to materials and welcoming spaces for self-directed creativity\, skill-sharing\, and community building.  This event will happen the second Saturday of each month from 9 am to 12 pm. Come and go as you please! \nThe KAC hosts the only ArtHive in Alaska and our purpose is to support local established and upcoming or new artists. It’s a great opportunity to create art\, get to know other artists\, and to get art guidance if you are looking for it. This event is free and open to the public. Children must be accompanied by an adult. All art created by you can be taken home.  For questions\, please call Diane at 503-880-1498.
URL:https://kenaiartcenter.org/event/the-kpen-arthive/
LOCATION:Kenai Art Center\, 816 Cook Ave\, Kenai\, AK\, 99611
CATEGORIES:Around the Community,Arts & Crafts Fair,Community Events
ATTACH;FMTTYPE=image/png:https://kenaiartcenter.org/wp-content/uploads/2025/09/Kpen-ArtHive-copy.png
END:VEVENT
BEGIN:VEVENT
DTSTART;TZID=UTC:20250801T170000
DTEND;TZID=UTC:20250801T190000
DTSTAMP:20260423T132252
CREATED:20250731T134202Z
LAST-MODIFIED:20250731T135016Z
UID:9402-1754067600-1754074800@kenaiartcenter.org
SUMMARY:Garrett Ennis Live at the KAC!
DESCRIPTION:Garrett Ennis Live at the KAC!\nWe invite you to join us on Friday August 1st to hear Garrett Ennis on guitar at our First Friday Opening Reception. Garrett will be setting the audio scene for the WORLD ON FIRE and the  MURAL SALE shows at this opening night event. Garrett is an Alaskan born musician who was taught to play the guitar by his father early in life and went on to become a formally trained and highly accomplished musician. He has played for us before and we really enjoy his style and sound. He will be one of the 5 artists who will be showcased at Friday’s event. To learn more about Garrett and see his full bio please visit here: https://kenaiartcenter.org/exhibition-august-2025/ \nThis event is free and open to the public. Bring family and friends for a great night of music\, art and hors d’oeuvres. \n 
URL:https://kenaiartcenter.org/event/garrett-ennis-live-at-the-kac/
LOCATION:Kenai Art Center\, 816 Cook Ave\, Kenai\, AK\, 99611
CATEGORIES:Around the Community,First Friday,Live Music
ATTACH;FMTTYPE=image/jpeg:https://kenaiartcenter.org/wp-content/uploads/2025/07/IMG_0512.jpg
END:VEVENT
BEGIN:VEVENT
DTSTART;TZID=UTC:20250711T170000
DTEND;TZID=UTC:20250711T190000
DTSTAMP:20260423T132252
CREATED:20250517T053828Z
LAST-MODIFIED:20250615T043523Z
UID:9226-1752253200-1752260400@kenaiartcenter.org
SUMMARY:CLAY ON DISPLAY--JULY 2025
DESCRIPTION:Because of the 4th of July celebration\, this year the CLAY ON DISPLAY–RIVER SECOND Friday Opening Reception will be on July 11th from 5–7 pm.  Live Music. Refreshments. Free Event. Open to the public. This show will run through Friday July 26th. \n \nFrom the Kenai Potters Guild: \n“One thing we all have in common is our love for the environment. Rivers wind through our towns and our lives–whether we spend time on them or around them. Rivers connect us. We hope our CLAY ON DISPLAY–RIVER show encourages you to think about how the river plays a role in your life and the community around us. Join us as we celebrate the river and the creative current infused clay.” \nJoin us in the main gallery for the 2025 Potters Guild exhibition titled CLAY ON DISPLAY–RIVER. This annual event has become a much anticipated and loved show that brings locals and visitors alike. The KPG mission statement of  “Learn\, Create\, Pass It On” has been very apparent over the years as the guild has been involved in teaching pottery skills\, volunteering and helping at the local food pantry\, and creating for show and sales thoughtful\, utilitarian\, and beautiful works of art in clay for over 50 years. \nLearn more about the Kenai Potters Guild here: \n 
URL:https://kenaiartcenter.org/event/clay-on-display-july-2025/
LOCATION:Kenai Art Center\, 816 Cook Ave\, Kenai\, AK\, 99611
CATEGORIES:Around the Community,Exhibitions,Live Music
ATTACH;FMTTYPE=image/png:https://kenaiartcenter.org/wp-content/uploads/2025/05/updated-clay-on-display-2025.png
ORGANIZER;CN="Kenai Art Center":MAILTO:kenaiartcenter@gmail.com
END:VEVENT
BEGIN:VEVENT
DTSTART;TZID=UTC:20250614T090000
DTEND;TZID=UTC:20250614T120000
DTSTAMP:20260423T132252
CREATED:20250318T063604Z
LAST-MODIFIED:20250424T050651Z
UID:9113-1749891600-1749902400@kenaiartcenter.org
SUMMARY:KPEN ArtHive
DESCRIPTION:. \nThere will be no KPen ArtHiv this summer. The KPen ArtHive will resume in the Fall of 2025.
URL:https://kenaiartcenter.org/event/kpen-arthive-5/
LOCATION:Kenai Art Center\, 816 Cook Ave\, Kenai\, AK\, 99611
CATEGORIES:Around the Community
ATTACH;FMTTYPE=image/png:https://kenaiartcenter.org/wp-content/uploads/2025/03/kpen-arthive-2025.png
ORGANIZER;CN="Kenai Art Center":MAILTO:kenaiartcenter@gmail.com
END:VEVENT
BEGIN:VEVENT
DTSTART;TZID=UTC:20220521T130000
DTEND;TZID=UTC:20220521T160000
DTSTAMP:20260423T132252
CREATED:20220517T074959Z
LAST-MODIFIED:20220517T074959Z
UID:7329-1653138000-1653148800@kenaiartcenter.org
SUMMARY:Kenai Plein Air Group - May 21st
DESCRIPTION:Kenai Plein Air Group \nKenai Municipal Park\,\n1pm to 4pm\, Saturday\, May 21st \nTime to dust off those pochades and french easels and get back outside! \nKenai Municipal Park has a variety of subject matter including open fields\, forested paths and bluff views.  Bring your art supplies\, water\, snacks\, bug spray\, a hat and anything else you may require.  There are restrooms and pavilions in case of rain.  We’ll meet in the parking lot near the playground.  The park is located on North Forest Street in Kenai. \nPlease RSVP on our Facebook page https://www.facebook.com/groups/kenaipleinair or send an email to asarren@hotmail.com Also\, please share this event with anyone you think might be interested.  Hope to see you there!
URL:https://kenaiartcenter.org/event/kenai-plein-air-group-may-21st/
LOCATION:AK
CATEGORIES:Around the Community
ATTACH;FMTTYPE=image/png:https://kenaiartcenter.org/wp-content/uploads/2022/05/Screen-Shot-2022-05-16-at-3.47.53-PM.png
ORGANIZER;CN="Alisia Sarren":MAILTO:asarren@hotmail.com
END:VEVENT
BEGIN:VEVENT
DTSTART;TZID=UTC:20210925T110000
DTEND;TZID=UTC:20210925T150000
DTSTAMP:20260423T132252
CREATED:20210913T015708Z
LAST-MODIFIED:20210913T015708Z
UID:6944-1632567600-1632582000@kenaiartcenter.org
SUMMARY:Kenai Plein Air Group Paint Out
DESCRIPTION:Join us for an afternoon of plein air\, leaf peeping\, and s’mores. We’ll meet at the Upper Skilak Lake Campground Day Use Area. I’ll bring firewood and s’mores fixings so we can warm chilly fingers and roast s’mores through out the afternoon. Bring any other food (something to roast on a stick perhaps)\, snacks and drinks you may want\, as well as plein air supplies and anything you need for a day in a wilderness area. \n– Alisia Sarren
URL:https://kenaiartcenter.org/event/kenai-plein-air-group-paint-out-4/
LOCATION:AK
CATEGORIES:Around the Community
ATTACH;FMTTYPE=image/jpeg:https://kenaiartcenter.org/wp-content/uploads/2021/09/241716721_10228373755354354_7883719813043671626_n.jpg
ORGANIZER;CN="Alisia Sarren":MAILTO:asarren@hotmail.com
END:VEVENT
BEGIN:VEVENT
DTSTART;TZID=UTC:20210917T170000
DTEND;TZID=UTC:20210917T200000
DTSTAMP:20260423T132252
CREATED:20210913T015323Z
LAST-MODIFIED:20210913T015323Z
UID:6941-1631898000-1631908800@kenaiartcenter.org
SUMMARY:Kenai Plein Air Group Paint Out
DESCRIPTION:Let’s kick off the weekend with a little plein air! As we head into Autumn the Kenai River Flats are becoming a riot of color. I especially like the views here in the golden light at the end of the day. Bring whatever plein air supplies you like\, snacks\, drinks\, and if you want\, a chair or sit-upon. I’ve set the event time for 5 pm to 8 pm but stay and paint/draw as long as you like. Sunset that evening is at 8:15 pm. Just a heads up\, there are no restrooms at this location… there are bushes and tall grass though. \n– Alisia Sarren
URL:https://kenaiartcenter.org/event/kenai-plein-air-group-paint-out-3/
LOCATION:AK
CATEGORIES:Around the Community
ATTACH;FMTTYPE=image/jpeg:https://kenaiartcenter.org/wp-content/uploads/2021/09/241818837_10228373640791490_4508702930450552915_n.jpg
ORGANIZER;CN="Alisia Sarren":MAILTO:asarren@hotmail.com
END:VEVENT
END:VCALENDAR