BEGIN:VCALENDAR
VERSION:2.0
PRODID:-//Kenai Art Center - ECPv6.15.20//NONSGML v1.0//EN
CALSCALE:GREGORIAN
METHOD:PUBLISH
X-WR-CALNAME:Kenai Art Center
X-ORIGINAL-URL:https://kenaiartcenter.org
X-WR-CALDESC:Events for Kenai Art Center
REFRESH-INTERVAL;VALUE=DURATION:PT1H
X-Robots-Tag:noindex
X-PUBLISHED-TTL:PT1H
BEGIN:VTIMEZONE
TZID:UTC
BEGIN:STANDARD
TZOFFSETFROM:+0000
TZOFFSETTO:+0000
TZNAME:UTC
DTSTART:20250101T000000
END:STANDARD
END:VTIMEZONE
BEGIN:VTIMEZONE
TZID:America/Anchorage
BEGIN:DAYLIGHT
TZOFFSETFROM:-0900
TZOFFSETTO:-0800
TZNAME:AKDT
DTSTART:20250309T110000
END:DAYLIGHT
BEGIN:STANDARD
TZOFFSETFROM:-0800
TZOFFSETTO:-0900
TZNAME:AKST
DTSTART:20251102T100000
END:STANDARD
BEGIN:DAYLIGHT
TZOFFSETFROM:-0900
TZOFFSETTO:-0800
TZNAME:AKDT
DTSTART:20260308T110000
END:DAYLIGHT
BEGIN:STANDARD
TZOFFSETFROM:-0800
TZOFFSETTO:-0900
TZNAME:AKST
DTSTART:20261101T100000
END:STANDARD
BEGIN:DAYLIGHT
TZOFFSETFROM:-0900
TZOFFSETTO:-0800
TZNAME:AKDT
DTSTART:20270314T110000
END:DAYLIGHT
BEGIN:STANDARD
TZOFFSETFROM:-0800
TZOFFSETTO:-0900
TZNAME:AKST
DTSTART:20271107T100000
END:STANDARD
END:VTIMEZONE
BEGIN:VEVENT
DTSTART;TZID=UTC:20261127T100000
DTEND;TZID=UTC:20261127T170000
DTSTAMP:20260423T181502
CREATED:20251202T063746Z
LAST-MODIFIED:20260129T145454Z
UID:9625-1795773600-1795798800@kenaiartcenter.org
SUMMARY:Kenai Art Center Arts & Crafts Fair 2026
DESCRIPTION:An eclectic mix of homemade local goods to help us celebrate the Christmas Holiday! \nCome and choose from beautiful\, unique and original artistic items to help fill Christmas presents\, stockings\, and mantlepieces! November 27th and 28th at the Kenai Central High School commons and gym. The event runs Friday and Saturday 10:00 am–5:00 pm. \nVendor Information:\nIt’s not too early to reserve your booth. Registrations must be received either by postmark or in person at the Kenai Art Center by November 14th 2025. We do not take any applications via email due to payment needing to accompany the application. \nBooth fees are as follows: \n8×8′ Booth (limit 3)- $165\n4.4′ Booth (Limit 2)- $85 \nEarly Set-Up Fee-$25 \nReserve a Booth for 2025\nBooth Application: https://kenaiartcenter.org/wp-content/uploads/2025/12/2026-Kenai-Arts-application.pdf \nVendors are welcome to reserve a booth by dropping off an application at the Kenai Fine Art Center or by mailing it in. We do not accept applications via email because your payment must accompany the application in order to reserve a booth. Please make checks payable to “Peninsula Art Guild.” Applications are available at the Art Center\, or you can print them out at home by following the link above. \nFor questions\, please call Shannon at 907-953-0247. If mailing your application\, please use this address below: \nKenai Art Center\nP.O. Box 703\nKenai\, AK 99611
URL:https://kenaiartcenter.org/event/kenai-arts-crafts-fair-2026/
LOCATION:kenai Central High School\, 9583 Kenai Spur Hwy\, Kenai\, Alaska\, 99611\, United States
CATEGORIES:Annual Events,Arts & Crafts Fair
ATTACH;FMTTYPE=image/png:https://kenaiartcenter.org/wp-content/uploads/2025/12/2026-arts-and-crafts-fair-copy.png
END:VEVENT
BEGIN:VEVENT
DTSTART;TZID=America/Anchorage:20261127T100000
DTEND;TZID=America/Anchorage:20261128T170000
DTSTAMP:20260423T181502
CREATED:20240418T094755Z
LAST-MODIFIED:20260328T050707Z
UID:8515-1795773600-1795885200@kenaiartcenter.org
SUMMARY:Kenai Art Center Winter Arts & Crafts Fair 2026
DESCRIPTION:  \n  \n \nAn eclectic mix of homemade local goods to help us celebrate the Christmas Holiday! \nCome and choose from beautiful\, unique and original artistic items to help fill Christmas presents\, stockings\, and mantlepieces! November 27th and 28th at the Kenai Central High School commons and gym. The event runs Friday and Saturday 10:00 am–5:00 pm. \nVendor Information:\n\nIt’s not too early to reserve your booth. Registrations must be received either by postmark or in person at the Kenai Art Center by November 14th 2025. We do not take any applications via email due to payment needing to accompany the application. \nBooth fees are as follows: \n8×8′ Booth (limit 3)- $165\n4.4′ Booth (Limit 2)- $85 \nReserve a Booth for 2025\nBooth Application: https://kenaiartcenter.org/wp-content/uploads/2025/12/2026-Kenai-Arts-application.pdf \nVendors are welcome to reserve a booth by dropping off an application at the Kenai Fine Art Center or by mailing it in. We do not accept applications via email because your payment must accompany the application in order to reserve a booth. Please make checks payable to “Peninsula Art Guild.” Applications are available at the Art Center\, or you can print them out at home by following the link above. \nFor questions\, please call Shannon at 907-953-0247. If mailing your application\, please use this address below: \nKenai Art Center\nP.O. Box 703\nKenai\, AK 99611 \n  \n 
URL:https://kenaiartcenter.org/event/https-kenaiartcenter-org-spring-kenai-arts-crafts-fair/
LOCATION:Kenai Art Center\, 816 Cook Ave\, Kenai\, AK\, 99611
CATEGORIES:Arts & Crafts Fair
ATTACH;FMTTYPE=image/png:https://kenaiartcenter.org/wp-content/uploads/2023/01/2026-arts-and-crafts-fair-copy-copy-scaled.png
ORGANIZER;CN="Kenai Art Center":MAILTO:kenaiartcenter@gmail.com
END:VEVENT
END:VCALENDAR