BEGIN:VCALENDAR
VERSION:2.0
PRODID:-//Kenai Art Center - ECPv6.15.20//NONSGML v1.0//EN
CALSCALE:GREGORIAN
METHOD:PUBLISH
X-ORIGINAL-URL:https://kenaiartcenter.org
X-WR-CALDESC:Events for Kenai Art Center
REFRESH-INTERVAL;VALUE=DURATION:PT1H
X-Robots-Tag:noindex
X-PUBLISHED-TTL:PT1H
BEGIN:VTIMEZONE
TZID:UTC
BEGIN:STANDARD
TZOFFSETFROM:+0000
TZOFFSETTO:+0000
TZNAME:UTC
DTSTART:20230101T000000
END:STANDARD
END:VTIMEZONE
BEGIN:VEVENT
DTSTART;TZID=UTC:20251011T090000
DTEND;TZID=UTC:20251011T120000
DTSTAMP:20260423T195418
CREATED:20250918T120438Z
LAST-MODIFIED:20250918T120438Z
UID:9461-1760173200-1760184000@kenaiartcenter.org
SUMMARY:The KPEN ArtHive
DESCRIPTION:The KPEN ArtHive is Back! What’s an arthive? It’s a global community-based art studio that provides free access to materials and welcoming spaces for self-directed creativity\, skill-sharing\, and community building.  This event will happen the second Saturday of each month from 9 am to 12 pm. Come and go as you please! \nThe KAC hosts the only ArtHive in Alaska and our purpose is to support local established and upcoming or new artists. It’s a great opportunity to create art\, get to know other artists\, and to get art guidance if you are looking for it. This event is free and open to the public. Children must be accompanied by an adult. All art created by you can be taken home.  For questions\, please call Diane at 503-880-1498.
URL:https://kenaiartcenter.org/event/the-kpen-arthive/
LOCATION:Kenai Art Center\, 816 Cook Ave\, Kenai\, AK\, 99611
CATEGORIES:Around the Community,Arts & Crafts Fair,Community Events
ATTACH;FMTTYPE=image/png:https://kenaiartcenter.org/wp-content/uploads/2025/09/Kpen-ArtHive-copy.png
END:VEVENT
BEGIN:VEVENT
DTSTART;TZID=UTC:20240309T100000
DTEND;TZID=UTC:20240309T170000
DTSTAMP:20260423T195418
CREATED:20230308T042910Z
LAST-MODIFIED:20240416T072428Z
UID:7819-1709978400-1710003600@kenaiartcenter.org
SUMMARY:Kenai Spring Arts & Crafts Fair
DESCRIPTION:We’re sorry to announce that the Spring Arts & Crafts Fair has been cancelled due to not enough vendors. Please contact Vicky at 907-394-7381 \nMore information and applications can be found here.
URL:https://kenaiartcenter.org/event/kenai-spring-arts-crafts-fair-2/
LOCATION:Kenaitze Education Center
CATEGORIES:Annual Events,Arts & Crafts Fair
ATTACH;FMTTYPE=image/png:https://kenaiartcenter.org/wp-content/uploads/2023/03/cancelled-2024-spring-arts-and-crafts-fair-copy-1.png
ORGANIZER;CN="Kenai Art Center":MAILTO:kenaiartcenter@gmail.com
END:VEVENT
END:VCALENDAR