BEGIN:VCALENDAR
VERSION:2.0
PRODID:-//Kenai Art Center - ECPv6.15.20//NONSGML v1.0//EN
CALSCALE:GREGORIAN
METHOD:PUBLISH
X-WR-CALNAME:Kenai Art Center
X-ORIGINAL-URL:https://kenaiartcenter.org
X-WR-CALDESC:Events for Kenai Art Center
REFRESH-INTERVAL;VALUE=DURATION:PT1H
X-Robots-Tag:noindex
X-PUBLISHED-TTL:PT1H
BEGIN:VTIMEZONE
TZID:UTC
BEGIN:STANDARD
TZOFFSETFROM:+0000
TZOFFSETTO:+0000
TZNAME:UTC
DTSTART:20240101T000000
END:STANDARD
END:VTIMEZONE
BEGIN:VEVENT
DTSTART;TZID=UTC:20251122T160000
DTEND;TZID=UTC:20251122T173000
DTSTAMP:20260423T202838
CREATED:20251108T032140Z
LAST-MODIFIED:20251108T073416Z
UID:9566-1763827200-1763832600@kenaiartcenter.org
SUMMARY:Clay Gingerbread House Workshop with Daisy Jeffords
DESCRIPTION:  \nSorry….THIS EVENT HAS SOLD OUT! \n  \nClay Gingerbread Workshop with potter Daisy Jeffords \nNovember 22nd   4 pm at the KAC! \nSign up here: https://www.daisyjeffordspottery.com/book-online
URL:https://kenaiartcenter.org/event/clay-gingerbread-house-workshop-with-daisy-jeffords/
LOCATION:Kenai Art Center\, 816 Cook Ave\, Kenai\, AK\, 99611
CATEGORIES:Community Events,Workshops
ATTACH;FMTTYPE=image/png:https://kenaiartcenter.org/wp-content/uploads/2025/11/IMG_5689.png
END:VEVENT
END:VCALENDAR