BEGIN:VCALENDAR
VERSION:2.0
PRODID:-//Kenai Art Center - ECPv6.15.20//NONSGML v1.0//EN
CALSCALE:GREGORIAN
METHOD:PUBLISH
X-WR-CALNAME:Kenai Art Center
X-ORIGINAL-URL:https://kenaiartcenter.org
X-WR-CALDESC:Events for Kenai Art Center
REFRESH-INTERVAL;VALUE=DURATION:PT1H
X-Robots-Tag:noindex
X-PUBLISHED-TTL:PT1H
BEGIN:VTIMEZONE
TZID:UTC
BEGIN:STANDARD
TZOFFSETFROM:+0000
TZOFFSETTO:+0000
TZNAME:UTC
DTSTART:20230101T000000
END:STANDARD
END:VTIMEZONE
BEGIN:VEVENT
DTSTART;TZID=UTC:20240802T170000
DTEND;TZID=UTC:20240802T190000
DTSTAMP:20260424T174316
CREATED:20240521T041415Z
LAST-MODIFIED:20240806T110351Z
UID:8567-1722618000-1722625200@kenaiartcenter.org
SUMMARY:THEN AND NOW: A Look At The Kenai Art Center--Exhibition August 2024
DESCRIPTION:THEN AND NOW: A Look at the Kenai Art Center \n \nDue to unforeseen circumstances\, we are no longer able to show SKIN d’ART. Instead\, starting Wednesday July 31st\, the left wall of the main gallery will be showing THEN AND NOW: A Look at the Kenai Art Center. KAC legend explains that when the KAC ceiling was being replaced\, a large dusty black binder was discovered lodged above the ceiling tiles. This binder contains historic documents\, photos\, show programs\, exhibition posters and correspondence relating to the KAC dating back to the 1960s. We have on display some of this history combined with works by local artists who have been influenced by the Kenai Art Center throughout the years. This show is continued in the back gallery. \nFirst Friday Opening Reception August 2nd 5–7 pm. Live Music. Refreshments. Free Event.
URL:https://kenaiartcenter.org/event/tattoo-artist-fine-art-exhibition-august-2024/
LOCATION:AK
CATEGORIES:Exhibitions,First Friday
ATTACH;FMTTYPE=image/png:https://kenaiartcenter.org/wp-content/uploads/2024/08/Aug-2024-updated-web-flier.png
ORGANIZER;CN="Kenai Art Center":MAILTO:kenaiartcenter@gmail.com
END:VEVENT
BEGIN:VEVENT
DTSTART;TZID=UTC:20240802T170000
DTEND;TZID=UTC:20240802T190000
DTSTAMP:20260424T174316
CREATED:20240716T065727Z
LAST-MODIFIED:20240801T162004Z
UID:8679-1722618000-1722625200@kenaiartcenter.org
SUMMARY:Wildflower Whimsy featuring artist Ashlee Oliver-Frey
DESCRIPTION:On the right wall of our main gallery Ashlee Oliver-Frey will be showing works in her exhibit titled “Wildflower Whimsy“. Ashlee describes herself as a photographer and watercolor artist. She moved to Alaska in 2014 after graduating from Mississippi State College of Veterinary Medicine. Although her profession is small animal medicine\, she has nurtured a passion for fine art since her youth. \n“I live in a small\, cedar-sided home tucked in the woods in south-central Alaska surrounded by abundant wildlife and native plants. In recent years I have channeled my passion for the local flora and fauna with my fascination of fantasy into the creation of my artwork.  My favorite mediums to express my artistic nature are Watercolor and Photography. My recent works explore the threshold between the imagination and the bountiful Alaskan landscape\, and I am excited to see where this journey takes me.”   \nFor more information about Ashlee and her art please visit: https://ashleeoliverfreyart.square.site/ \nThis First Friday opening reception will coincide with the Tattoo Artists opening reception on Friday August 2nd 5–7 pm. Live music\, refreshments\, free event and open to the public. \n  \n  \n 
URL:https://kenaiartcenter.org/event/wildflower-whimsy-featuring-artist-ashlee-oliver-frey/
LOCATION:AK
CATEGORIES:First Friday
ORGANIZER;CN="Kenai Art Center":MAILTO:kenaiartcenter@gmail.com
END:VEVENT
END:VCALENDAR