BEGIN:VCALENDAR
VERSION:2.0
PRODID:-//Kenai Art Center - ECPv6.15.20//NONSGML v1.0//EN
CALSCALE:GREGORIAN
METHOD:PUBLISH
X-ORIGINAL-URL:https://kenaiartcenter.org
X-WR-CALDESC:Events for Kenai Art Center
REFRESH-INTERVAL;VALUE=DURATION:PT1H
X-Robots-Tag:noindex
X-PUBLISHED-TTL:PT1H
BEGIN:VTIMEZONE
TZID:UTC
BEGIN:STANDARD
TZOFFSETFROM:+0000
TZOFFSETTO:+0000
TZNAME:UTC
DTSTART:20240101T000000
END:STANDARD
END:VTIMEZONE
BEGIN:VEVENT
DTSTART;TZID=UTC:20250207T170000
DTEND;TZID=UTC:20250207T190000
DTSTAMP:20260424T081912
CREATED:20240405T020439Z
LAST-MODIFIED:20250206T141006Z
UID:8455-1738947600-1738954800@kenaiartcenter.org
SUMMARY:Fiber Arts Exhibition February 2025
DESCRIPTION:Call for FIBER ART! Fiber Arts Show coming to the Kenai Art Center February 2025! Submissions for this show are open to weavers\, quilters\, sewers\, knitters\, crocheters\, etc. \nFirst Friday Opening Reception February 7th 5–7 pm. This show will run from February 5th through Friday February 28th. \nOriginal designs and Original patterns made within the last two years only please. All pieces must be completely assembled with hanging hardware attached. Submissions for this show will be accepted beginning Saturday January 4th through Saturday February 1st 2025 by 5 pm. This call for art show is open to artists 18 years of age or older. First Friday Opening Reception February 7th 5–7 pm. Free Event. Live Music & Refreshments. Any Qs: kenariartcenter@gmail.com  ( att: Charlotte in subject line)
URL:https://kenaiartcenter.org/event/fiber-arts-exhibition-february-2025/
LOCATION:AK
CATEGORIES:First Friday
ATTACH;FMTTYPE=image/png:https://kenaiartcenter.org/wp-content/uploads/2025/02/fiber-for-web-.png
ORGANIZER;CN="Kenai Art Center":MAILTO:kenaiartcenter@gmail.com
END:VEVENT
END:VCALENDAR