BEGIN:VCALENDAR
VERSION:2.0
PRODID:-//Kenai Art Center - ECPv6.15.20//NONSGML v1.0//EN
CALSCALE:GREGORIAN
METHOD:PUBLISH
X-WR-CALNAME:Kenai Art Center
X-ORIGINAL-URL:https://kenaiartcenter.org
X-WR-CALDESC:Events for Kenai Art Center
REFRESH-INTERVAL;VALUE=DURATION:PT1H
X-Robots-Tag:noindex
X-PUBLISHED-TTL:PT1H
BEGIN:VTIMEZONE
TZID:UTC
BEGIN:STANDARD
TZOFFSETFROM:+0000
TZOFFSETTO:+0000
TZNAME:UTC
DTSTART:20220101T000000
END:STANDARD
END:VTIMEZONE
BEGIN:VEVENT
DTSTART;TZID=UTC:20240607T170000
DTEND;TZID=UTC:20240607T190000
DTSTAMP:20260423T151859
CREATED:20240211T115610Z
LAST-MODIFIED:20240509T084346Z
UID:8354-1717779600-1717786800@kenaiartcenter.org
SUMMARY:June 2024 First Friday Opening Reception
DESCRIPTION:Two Exhibitions in June! \nMain Gallery:  Landscape and seascape artist Robert Clayton will show in our main gallery. \n \nBack Gallery: Homer Naturalist artist Kim McNett will be showing beautiful works of nature in our back gallery. She also will be hosting a workshop on June 8th! \n \nFirst Friday Opening Reception June 7th 5 to 7 pm. Music. Refreshments. Free and open to the public. Show is open Wednesday June 5th through Friday June 28th.
URL:https://kenaiartcenter.org/event/june-2024-first-friday-opening-reception/
LOCATION:Kenai Art Center\, 816 Cook Ave\, Kenai\, AK\, 99611
CATEGORIES:Exhibitions,First Friday
ORGANIZER;CN="Kenai Art Center":MAILTO:kenaiartcenter@gmail.com
END:VEVENT
BEGIN:VEVENT
DTSTART;TZID=UTC:20240503T170000
DTEND;TZID=UTC:20240503T190000
DTSTAMP:20260423T151859
CREATED:20240211T115057Z
LAST-MODIFIED:20240418T083117Z
UID:8350-1714755600-1714762800@kenaiartcenter.org
SUMMARY:May 2024 "Stitch Paint Fabricate"  & "Faces of Our Land" First Friday Opening
DESCRIPTION:  \nTwo shows in May! \nMain Gallery: Come see the works of the dynamic duo of Chelline Larsen & Adam Hoyt for our First Friday Reception of the “Stitch Paint Fabricate” \nBack Gallery: “Faces of Our Land” will show graphic artist Charles Atkins depictions of up close and personal animal portraits. \nOpening Reception for both shows will be Friday May 3rd at 5 to 7 pm. Live Music. Refreshments. Free Event. Open to the public. Exhibits runs from Friday May 3rd through Saturday May 31st. \n 
URL:https://kenaiartcenter.org/event/may-2024-stitch-paint-fabricate-first-friday-opening/
LOCATION:Kenai Art Center\, 816 Cook Ave\, Kenai\, AK\, 99611
CATEGORIES:Exhibitions,First Friday
ORGANIZER;CN="Kenai Art Center":MAILTO:kenaiartcenter@gmail.com
END:VEVENT
BEGIN:VEVENT
DTSTART;TZID=UTC:20240405T170000
DTEND;TZID=UTC:20240405T190000
DTSTAMP:20260423T151859
CREATED:20240321T084122Z
LAST-MODIFIED:20240321T084122Z
UID:8426-1712336400-1712343600@kenaiartcenter.org
SUMMARY:33rd Annual KPBSD Juried Student Art Show
DESCRIPTION:First Friday Opening Reception April 5th 2024 5–7 pm. Middle school awards presented at 5:30. High school awards presented at 6:00. \nShow runs from Friday April 5th until Friday April 26th. Live Music. Refreshments. Free to the public.
URL:https://kenaiartcenter.org/event/33rd-annual-kpbsd-juried-student-art-show/
CATEGORIES:Exhibitions,First Friday
ORGANIZER;CN="Kenai Art Center":MAILTO:kenaiartcenter@gmail.com
END:VEVENT
BEGIN:VEVENT
DTSTART;TZID=UTC:20240405T170000
DTEND;TZID=UTC:20240405T190000
DTSTAMP:20260423T151859
CREATED:20240211T114229Z
LAST-MODIFIED:20240211T114229Z
UID:8347-1712336400-1712343600@kenaiartcenter.org
SUMMARY:April 2024 KPBSD Student Show
DESCRIPTION:Join us at the KAC for the 2024 KPBSD Student Art Show! More details to come!
URL:https://kenaiartcenter.org/event/april-2024-kpbsd-student-show/
CATEGORIES:Exhibitions,First Friday
ORGANIZER;CN="Kenai Art Center":MAILTO:kenaiartcenter@gmail.com
END:VEVENT
BEGIN:VEVENT
DTSTART;TZID=UTC:20240301T170000
DTEND;TZID=UTC:20240301T190000
DTSTAMP:20260423T151859
CREATED:20240206T102130Z
LAST-MODIFIED:20240228T122129Z
UID:8330-1709312400-1709319600@kenaiartcenter.org
SUMMARY:Medieval Forest   First Friday Opening Reception March 2024
DESCRIPTION:This themed call for art show will exhibit local artists visions of a medieval forest. This art will set the stage for the TreeFort Theatre production of Marian (or the True Tale of Robin Hood) which will be performed at different times during the month of March.  Free Event. Live Music by Maria Allison. \nOpening Reception Friday March 1st 5–7 pm \nLive Music. Free Event.  Open to the public. \n \nfor info about TreeFort Theatre or the play Marian (the True Tale of Robin Hood) go here: https://treeforttheatre.ticketleap.com/marian/details \nFor questions or comments regarding the play please email the Kenai Art Center at kenaiartcenter@gmail.com \n 
URL:https://kenaiartcenter.org/event/medieval-forest-first-friday-opening-reception-march-2024/
LOCATION:Kenai Art Center\, 816 Cook Ave\, Kenai\, AK\, 99611
CATEGORIES:First Friday
ATTACH;FMTTYPE=image/png:https://kenaiartcenter.org/wp-content/uploads/2024/02/monthly-web-announcement.png
ORGANIZER;CN="Kenai Art Center":MAILTO:kenaiartcenter@gmail.com
END:VEVENT
BEGIN:VEVENT
DTSTART;TZID=UTC:20240202T170000
DTEND;TZID=UTC:20240224T170000
DTSTAMP:20260423T151859
CREATED:20240109T090101Z
LAST-MODIFIED:20240229T092718Z
UID:8260-1706893200-1708794000@kenaiartcenter.org
SUMMARY:First Friday Opening People's Choice Show February 2024
DESCRIPTION:
URL:https://kenaiartcenter.org/event/first-friday-opening-peoples-choice-show-february-2024/
LOCATION:Kenai Art Center\, 816 Cook Ave\, Kenai\, AK\, 99611
CATEGORIES:Exhibitions,First Friday
ATTACH;FMTTYPE=image/png:https://kenaiartcenter.org/wp-content/uploads/2024/01/Feb-exhibit-2024-copy-1.png
ORGANIZER;CN="Kenai Art Center":MAILTO:kenaiartcenter@gmail.com
END:VEVENT
BEGIN:VEVENT
DTSTART;TZID=UTC:20240105T170000
DTEND;TZID=UTC:20240105T190000
DTSTAMP:20260423T151859
CREATED:20231024T123316Z
LAST-MODIFIED:20240106T081747Z
UID:8135-1704474000-1704481200@kenaiartcenter.org
SUMMARY:Feels Like Home Exhibition Jan 2024--benefit for the KPBSD Students in Transition program
DESCRIPTION:KAC wants to start the 2024 New Year by giving. This Open Call show will exhibit works that reflect the FEELS LIKE HOME theme to raise money and bring awareness to the KPBSD Students in Transition program.\nWhat can the Students in Transition Program provide?\n• Immediate School Enrollment\n• Free school meal benefits\n• Transportation to and from school\n• School Supplies\n• Assistance in obtaining vital records\n• Referrals to local social service agencies and public programs \nStudents who don’t have stable housing face special challenges when it comes to school success. It is hard to learn if you are worried about your next meal\, about staying warm at night\, or about where you’ll be sleeping next. Students who frequently change schools or are frequently absent lose out on valuable learning time and often fall behind their peers.\nWhen an exhibition piece sells during the show\, the artist will be paid all of their portion of the sale\, and the gallery will donate 100% of the gallery portion of the sale of the piece to the Students In Transition program.  There will also be a donation box available all month while the show lasts if you want to help the cause.\nArt submission applications for this show will be accepted Saturday November 11th through Saturday December 16th and also one more day on Saturday December 30th 12:00–5:00 pm.  \n 
URL:https://kenaiartcenter.org/event/feels-like-home-exhibition-jan-2024-benefit-for-the-kpbsd-students-in-transition-program/
LOCATION:Kenai Art Center\, 816 Cook Ave\, Kenai\, AK\, 99611
CATEGORIES:Exhibitions,First Friday
ATTACH;FMTTYPE=image/png:https://kenaiartcenter.org/wp-content/uploads/2023/10/web-exhibition-page-jan-2024-copy.png
ORGANIZER;CN="Kenai Art Center":MAILTO:kenaiartcenter@gmail.com
END:VEVENT
BEGIN:VEVENT
DTSTART;TZID=UTC:20230901T170000
DTEND;TZID=UTC:20230901T190000
DTSTAMP:20260423T151859
CREATED:20230827T072240Z
LAST-MODIFIED:20230827T072914Z
UID:8011-1693587600-1693594800@kenaiartcenter.org
SUMMARY:First Friday Opening Reception
DESCRIPTION:There is so much wonderful artwork up for grabs at this year’s auction. The silent auction portion of the event opens September 1st\, so come in and place your bids. The outcry portion of the even will be on view as well\, so you can come and see which pieces to bid on live on Saturday September 30th (tickets available in the gallery.) This fundraiser supports the Kenai Art Center’s workshops\, programs\, and the ongoing preservation of our historic old town Kenai building\, so many thanks to everyone participating!
URL:https://kenaiartcenter.org/event/first-friday/
LOCATION:Kenai Art Center\, 816 Cook Ave\, Kenai\, AK\, 99611
CATEGORIES:First Friday
ATTACH;FMTTYPE=image/jpeg:https://kenaiartcenter.org/wp-content/uploads/2023/08/Sept-2023-Web-main-image-copy-2.jpg
ORGANIZER;CN="Kenai Art Center":MAILTO:kenaiartcenter@gmail.com
END:VEVENT
BEGIN:VEVENT
DTSTART;TZID=UTC:20230804T170000
DTEND;TZID=UTC:20230804T170000
DTSTAMP:20260423T151859
CREATED:20230720T115734Z
LAST-MODIFIED:20230720T115734Z
UID:7936-1691168400-1691168400@kenaiartcenter.org
SUMMARY:First Friday Opening Reception
DESCRIPTION:Join us for the First Friday Reception for our August show new paintings by Susan Watkins \nAugust 4th 5–7 pm. \nFree and open to public.
URL:https://kenaiartcenter.org/event/first-friday-opening-reception-3/
LOCATION:Kenai Art Center\, 816 Cook Ave\, Kenai\, AK\, 99611
CATEGORIES:Exhibitions,First Friday
ATTACH;FMTTYPE=image/jpeg:https://kenaiartcenter.org/wp-content/uploads/2022/10/watkins.jpg
ORGANIZER;CN="Kenai Art Center":MAILTO:kenaiartcenter@gmail.com
END:VEVENT
END:VCALENDAR