BEGIN:VCALENDAR
VERSION:2.0
PRODID:-//Kenai Art Center - ECPv6.15.20//NONSGML v1.0//EN
CALSCALE:GREGORIAN
METHOD:PUBLISH
X-WR-CALNAME:Kenai Art Center
X-ORIGINAL-URL:https://kenaiartcenter.org
X-WR-CALDESC:Events for Kenai Art Center
REFRESH-INTERVAL;VALUE=DURATION:PT1H
X-Robots-Tag:noindex
X-PUBLISHED-TTL:PT1H
BEGIN:VTIMEZONE
TZID:UTC
BEGIN:STANDARD
TZOFFSETFROM:+0000
TZOFFSETTO:+0000
TZNAME:UTC
DTSTART:20200101T000000
END:STANDARD
END:VTIMEZONE
BEGIN:VEVENT
DTSTART;TZID=UTC:20240802T170000
DTEND;TZID=UTC:20240802T190000
DTSTAMP:20260423T152416
CREATED:20240716T065727Z
LAST-MODIFIED:20240801T162004Z
UID:8679-1722618000-1722625200@kenaiartcenter.org
SUMMARY:Wildflower Whimsy featuring artist Ashlee Oliver-Frey
DESCRIPTION:On the right wall of our main gallery Ashlee Oliver-Frey will be showing works in her exhibit titled “Wildflower Whimsy“. Ashlee describes herself as a photographer and watercolor artist. She moved to Alaska in 2014 after graduating from Mississippi State College of Veterinary Medicine. Although her profession is small animal medicine\, she has nurtured a passion for fine art since her youth. \n“I live in a small\, cedar-sided home tucked in the woods in south-central Alaska surrounded by abundant wildlife and native plants. In recent years I have channeled my passion for the local flora and fauna with my fascination of fantasy into the creation of my artwork.  My favorite mediums to express my artistic nature are Watercolor and Photography. My recent works explore the threshold between the imagination and the bountiful Alaskan landscape\, and I am excited to see where this journey takes me.”   \nFor more information about Ashlee and her art please visit: https://ashleeoliverfreyart.square.site/ \nThis First Friday opening reception will coincide with the Tattoo Artists opening reception on Friday August 2nd 5–7 pm. Live music\, refreshments\, free event and open to the public. \n  \n  \n 
URL:https://kenaiartcenter.org/event/wildflower-whimsy-featuring-artist-ashlee-oliver-frey/
CATEGORIES:First Friday
ORGANIZER;CN="Kenai Art Center":MAILTO:kenaiartcenter@gmail.com
END:VEVENT
BEGIN:VEVENT
DTSTART;TZID=UTC:20240802T170000
DTEND;TZID=UTC:20240802T190000
DTSTAMP:20260423T152416
CREATED:20240521T041415Z
LAST-MODIFIED:20240806T110351Z
UID:8567-1722618000-1722625200@kenaiartcenter.org
SUMMARY:THEN AND NOW: A Look At The Kenai Art Center--Exhibition August 2024
DESCRIPTION:THEN AND NOW: A Look at the Kenai Art Center \n \nDue to unforeseen circumstances\, we are no longer able to show SKIN d’ART. Instead\, starting Wednesday July 31st\, the left wall of the main gallery will be showing THEN AND NOW: A Look at the Kenai Art Center. KAC legend explains that when the KAC ceiling was being replaced\, a large dusty black binder was discovered lodged above the ceiling tiles. This binder contains historic documents\, photos\, show programs\, exhibition posters and correspondence relating to the KAC dating back to the 1960s. We have on display some of this history combined with works by local artists who have been influenced by the Kenai Art Center throughout the years. This show is continued in the back gallery. \nFirst Friday Opening Reception August 2nd 5–7 pm. Live Music. Refreshments. Free Event.
URL:https://kenaiartcenter.org/event/tattoo-artist-fine-art-exhibition-august-2024/
CATEGORIES:Exhibitions,First Friday
ATTACH;FMTTYPE=image/png:https://kenaiartcenter.org/wp-content/uploads/2024/08/Aug-2024-updated-web-flier.png
ORGANIZER;CN="Kenai Art Center":MAILTO:kenaiartcenter@gmail.com
END:VEVENT
BEGIN:VEVENT
DTSTART;TZID=UTC:20240705T170000
DTEND;TZID=UTC:20240705T190000
DTSTAMP:20260423T152416
CREATED:20240613T084031Z
LAST-MODIFIED:20240613T084108Z
UID:8646-1720198800-1720206000@kenaiartcenter.org
SUMMARY:Memories of Japan  featuring the work of Sandra Lewis
DESCRIPTION:Come and enjoy a visually stunning back gallery installation by artist Sandra Lewis as she transforms our back gallery space into her Memories of Japan exhibit. This show opens with our main gallery exhibit (Clay on Display) and starts Wednesday July 3rd with the Opening First Friday Reception Friday July 5th 5–7pm.  Live Music. Refreshments provided. Free and open to the public. Show runs through Friday July 26th. \n.
URL:https://kenaiartcenter.org/event/memories-of-japan-featuring-the-work-of-sandra-lewis/
CATEGORIES:2024 Events,Exhibitions,First Friday
ATTACH;FMTTYPE=image/png:https://kenaiartcenter.org/wp-content/uploads/2024/06/sandra-lewis-japanese-house.png
END:VEVENT
BEGIN:VEVENT
DTSTART;TZID=UTC:20240705T170000
DTEND;TZID=UTC:20240705T190000
DTSTAMP:20260423T152416
CREATED:20230624T081127Z
LAST-MODIFIED:20240613T065555Z
UID:7906-1720198800-1720206000@kenaiartcenter.org
SUMMARY:First Friday: Clay on Display 2024 in July
DESCRIPTION:The Kenai Potters’ Guild is back with another stunning new ceramic show!  Opening Reception Friday July 5th 5–7 pm. Refreshments and live music will be provided. Free to attend and open to the public. Show runs from Wednesday July 3rd through Friday July 26th. \n \n 
URL:https://kenaiartcenter.org/event/first-friday-clay-on-display/
LOCATION:Kenai Art Center\, 816 Cook Ave\, Kenai\, AK\, 99611
CATEGORIES:Exhibitions,First Friday,Kenai Potters' Guild
ATTACH;FMTTYPE=image/jpeg:https://kenaiartcenter.org/wp-content/uploads/2023/06/image000001.jpg
ORGANIZER;CN="Kenai Art Center":MAILTO:kenaiartcenter@gmail.com
END:VEVENT
BEGIN:VEVENT
DTSTART;VALUE=DATE:20240608
DTEND;VALUE=DATE:20240609
DTSTAMP:20260423T152416
CREATED:20240413T030821Z
LAST-MODIFIED:20240509T084113Z
UID:8360-1717804800-1717891199@kenaiartcenter.org
SUMMARY:Nature Journaling with Kim McNett
DESCRIPTION:Saturday June 8th 10:00 am–12:00 pm \n  \nAward-winning naturalist\, artist\, teacher and wilderness guide\, Kim McNett teaches nature journaling across Alaska. Nature Journaling is a practice of creativity and curiosity that draws from our own experiences in the natural world. Learn beginner-friendly field sketching and recording techniques that will strengthen your observation and appreciation of the natural world. Basic supplies will be provided or bring your own. Please be prepared to go outside (duration of outdoor time will be weather dependent). This is an adult level class for ages 16+ (teens 13–15 may join if accompanied by an adult). \nCost: $25 \nTo Register\, contact Kim at: KimsNatureDrawings.com \n 
URL:https://kenaiartcenter.org/event/nature-journaling-workshop-with-kim-mcnett/
LOCATION:Kenai Art Center\, 816 Cook Ave\, Kenai\, AK\, 99611
CATEGORIES:Annual Events,First Friday,Workshops
ATTACH;FMTTYPE=image/png:https://kenaiartcenter.org/wp-content/uploads/2024/04/Nature-Journal-Magpie-Feather-copy.png
ORGANIZER;CN="Kenai Art Center":MAILTO:kenaiartcenter@gmail.com
END:VEVENT
BEGIN:VEVENT
DTSTART;TZID=UTC:20240607T170000
DTEND;TZID=UTC:20240607T190000
DTSTAMP:20260423T152416
CREATED:20240211T115610Z
LAST-MODIFIED:20240509T084346Z
UID:8354-1717779600-1717786800@kenaiartcenter.org
SUMMARY:June 2024 First Friday Opening Reception
DESCRIPTION:Two Exhibitions in June! \nMain Gallery:  Landscape and seascape artist Robert Clayton will show in our main gallery. \n \nBack Gallery: Homer Naturalist artist Kim McNett will be showing beautiful works of nature in our back gallery. She also will be hosting a workshop on June 8th! \n \nFirst Friday Opening Reception June 7th 5 to 7 pm. Music. Refreshments. Free and open to the public. Show is open Wednesday June 5th through Friday June 28th.
URL:https://kenaiartcenter.org/event/june-2024-first-friday-opening-reception/
LOCATION:Kenai Art Center\, 816 Cook Ave\, Kenai\, AK\, 99611
CATEGORIES:Exhibitions,First Friday
ORGANIZER;CN="Kenai Art Center":MAILTO:kenaiartcenter@gmail.com
END:VEVENT
BEGIN:VEVENT
DTSTART;TZID=UTC:20240503T170000
DTEND;TZID=UTC:20240503T190000
DTSTAMP:20260423T152416
CREATED:20240211T115057Z
LAST-MODIFIED:20240418T083117Z
UID:8350-1714755600-1714762800@kenaiartcenter.org
SUMMARY:May 2024 "Stitch Paint Fabricate"  & "Faces of Our Land" First Friday Opening
DESCRIPTION:  \nTwo shows in May! \nMain Gallery: Come see the works of the dynamic duo of Chelline Larsen & Adam Hoyt for our First Friday Reception of the “Stitch Paint Fabricate” \nBack Gallery: “Faces of Our Land” will show graphic artist Charles Atkins depictions of up close and personal animal portraits. \nOpening Reception for both shows will be Friday May 3rd at 5 to 7 pm. Live Music. Refreshments. Free Event. Open to the public. Exhibits runs from Friday May 3rd through Saturday May 31st. \n 
URL:https://kenaiartcenter.org/event/may-2024-stitch-paint-fabricate-first-friday-opening/
LOCATION:Kenai Art Center\, 816 Cook Ave\, Kenai\, AK\, 99611
CATEGORIES:Exhibitions,First Friday
ORGANIZER;CN="Kenai Art Center":MAILTO:kenaiartcenter@gmail.com
END:VEVENT
BEGIN:VEVENT
DTSTART;TZID=UTC:20240405T170000
DTEND;TZID=UTC:20240405T190000
DTSTAMP:20260423T152416
CREATED:20240321T084122Z
LAST-MODIFIED:20240321T084122Z
UID:8426-1712336400-1712343600@kenaiartcenter.org
SUMMARY:33rd Annual KPBSD Juried Student Art Show
DESCRIPTION:First Friday Opening Reception April 5th 2024 5–7 pm. Middle school awards presented at 5:30. High school awards presented at 6:00. \nShow runs from Friday April 5th until Friday April 26th. Live Music. Refreshments. Free to the public.
URL:https://kenaiartcenter.org/event/33rd-annual-kpbsd-juried-student-art-show/
CATEGORIES:Exhibitions,First Friday
ORGANIZER;CN="Kenai Art Center":MAILTO:kenaiartcenter@gmail.com
END:VEVENT
BEGIN:VEVENT
DTSTART;TZID=UTC:20240405T170000
DTEND;TZID=UTC:20240405T190000
DTSTAMP:20260423T152416
CREATED:20240211T114229Z
LAST-MODIFIED:20240211T114229Z
UID:8347-1712336400-1712343600@kenaiartcenter.org
SUMMARY:April 2024 KPBSD Student Show
DESCRIPTION:Join us at the KAC for the 2024 KPBSD Student Art Show! More details to come!
URL:https://kenaiartcenter.org/event/april-2024-kpbsd-student-show/
CATEGORIES:Exhibitions,First Friday
ORGANIZER;CN="Kenai Art Center":MAILTO:kenaiartcenter@gmail.com
END:VEVENT
BEGIN:VEVENT
DTSTART;TZID=UTC:20240301T170000
DTEND;TZID=UTC:20240301T190000
DTSTAMP:20260423T152416
CREATED:20240206T102130Z
LAST-MODIFIED:20240228T122129Z
UID:8330-1709312400-1709319600@kenaiartcenter.org
SUMMARY:Medieval Forest   First Friday Opening Reception March 2024
DESCRIPTION:This themed call for art show will exhibit local artists visions of a medieval forest. This art will set the stage for the TreeFort Theatre production of Marian (or the True Tale of Robin Hood) which will be performed at different times during the month of March.  Free Event. Live Music by Maria Allison. \nOpening Reception Friday March 1st 5–7 pm \nLive Music. Free Event.  Open to the public. \n \nfor info about TreeFort Theatre or the play Marian (the True Tale of Robin Hood) go here: https://treeforttheatre.ticketleap.com/marian/details \nFor questions or comments regarding the play please email the Kenai Art Center at kenaiartcenter@gmail.com \n 
URL:https://kenaiartcenter.org/event/medieval-forest-first-friday-opening-reception-march-2024/
LOCATION:Kenai Art Center\, 816 Cook Ave\, Kenai\, AK\, 99611
CATEGORIES:First Friday
ATTACH;FMTTYPE=image/png:https://kenaiartcenter.org/wp-content/uploads/2024/02/monthly-web-announcement.png
ORGANIZER;CN="Kenai Art Center":MAILTO:kenaiartcenter@gmail.com
END:VEVENT
BEGIN:VEVENT
DTSTART;TZID=UTC:20240202T170000
DTEND;TZID=UTC:20240224T170000
DTSTAMP:20260423T152416
CREATED:20240109T090101Z
LAST-MODIFIED:20240229T092718Z
UID:8260-1706893200-1708794000@kenaiartcenter.org
SUMMARY:First Friday Opening People's Choice Show February 2024
DESCRIPTION:
URL:https://kenaiartcenter.org/event/first-friday-opening-peoples-choice-show-february-2024/
LOCATION:Kenai Art Center\, 816 Cook Ave\, Kenai\, AK\, 99611
CATEGORIES:Exhibitions,First Friday
ATTACH;FMTTYPE=image/png:https://kenaiartcenter.org/wp-content/uploads/2024/01/Feb-exhibit-2024-copy-1.png
ORGANIZER;CN="Kenai Art Center":MAILTO:kenaiartcenter@gmail.com
END:VEVENT
BEGIN:VEVENT
DTSTART;TZID=UTC:20240105T170000
DTEND;TZID=UTC:20240105T190000
DTSTAMP:20260423T152416
CREATED:20231024T123316Z
LAST-MODIFIED:20240106T081747Z
UID:8135-1704474000-1704481200@kenaiartcenter.org
SUMMARY:Feels Like Home Exhibition Jan 2024--benefit for the KPBSD Students in Transition program
DESCRIPTION:KAC wants to start the 2024 New Year by giving. This Open Call show will exhibit works that reflect the FEELS LIKE HOME theme to raise money and bring awareness to the KPBSD Students in Transition program.\nWhat can the Students in Transition Program provide?\n• Immediate School Enrollment\n• Free school meal benefits\n• Transportation to and from school\n• School Supplies\n• Assistance in obtaining vital records\n• Referrals to local social service agencies and public programs \nStudents who don’t have stable housing face special challenges when it comes to school success. It is hard to learn if you are worried about your next meal\, about staying warm at night\, or about where you’ll be sleeping next. Students who frequently change schools or are frequently absent lose out on valuable learning time and often fall behind their peers.\nWhen an exhibition piece sells during the show\, the artist will be paid all of their portion of the sale\, and the gallery will donate 100% of the gallery portion of the sale of the piece to the Students In Transition program.  There will also be a donation box available all month while the show lasts if you want to help the cause.\nArt submission applications for this show will be accepted Saturday November 11th through Saturday December 16th and also one more day on Saturday December 30th 12:00–5:00 pm.  \n 
URL:https://kenaiartcenter.org/event/feels-like-home-exhibition-jan-2024-benefit-for-the-kpbsd-students-in-transition-program/
LOCATION:Kenai Art Center\, 816 Cook Ave\, Kenai\, AK\, 99611
CATEGORIES:Exhibitions,First Friday
ATTACH;FMTTYPE=image/png:https://kenaiartcenter.org/wp-content/uploads/2023/10/web-exhibition-page-jan-2024-copy.png
ORGANIZER;CN="Kenai Art Center":MAILTO:kenaiartcenter@gmail.com
END:VEVENT
BEGIN:VEVENT
DTSTART;TZID=UTC:20231110T170000
DTEND;TZID=UTC:20231110T190000
DTSTAMP:20260423T152416
CREATED:20231024T121341Z
LAST-MODIFIED:20231024T121341Z
UID:8133-1699635600-1699642800@kenaiartcenter.org
SUMMARY:Down To Earth Mural Show 2023
DESCRIPTION: 
URL:https://kenaiartcenter.org/event/down-to-earth-mural-show-2023/
LOCATION:Kenai Art Center\, 816 Cook Ave\, Kenai\, AK\, 99611
CATEGORIES:Exhibitions
ATTACH;FMTTYPE=image/png:https://kenaiartcenter.org/wp-content/uploads/2023/10/Mural-Oct-2023-exhibition-image-copy.png
ORGANIZER;CN="Kenai Art Center":MAILTO:kenaiartcenter@gmail.com
END:VEVENT
BEGIN:VEVENT
DTSTART;TZID=UTC:20230901T170000
DTEND;TZID=UTC:20230901T190000
DTSTAMP:20260423T152416
CREATED:20230827T072240Z
LAST-MODIFIED:20230827T072914Z
UID:8011-1693587600-1693594800@kenaiartcenter.org
SUMMARY:First Friday Opening Reception
DESCRIPTION:There is so much wonderful artwork up for grabs at this year’s auction. The silent auction portion of the event opens September 1st\, so come in and place your bids. The outcry portion of the even will be on view as well\, so you can come and see which pieces to bid on live on Saturday September 30th (tickets available in the gallery.) This fundraiser supports the Kenai Art Center’s workshops\, programs\, and the ongoing preservation of our historic old town Kenai building\, so many thanks to everyone participating!
URL:https://kenaiartcenter.org/event/first-friday/
LOCATION:Kenai Art Center\, 816 Cook Ave\, Kenai\, AK\, 99611
CATEGORIES:First Friday
ATTACH;FMTTYPE=image/jpeg:https://kenaiartcenter.org/wp-content/uploads/2023/08/Sept-2023-Web-main-image-copy-2.jpg
ORGANIZER;CN="Kenai Art Center":MAILTO:kenaiartcenter@gmail.com
END:VEVENT
BEGIN:VEVENT
DTSTART;TZID=UTC:20230804T170000
DTEND;TZID=UTC:20230804T170000
DTSTAMP:20260423T152416
CREATED:20230720T115734Z
LAST-MODIFIED:20230720T115734Z
UID:7936-1691168400-1691168400@kenaiartcenter.org
SUMMARY:First Friday Opening Reception
DESCRIPTION:Join us for the First Friday Reception for our August show new paintings by Susan Watkins \nAugust 4th 5–7 pm. \nFree and open to public.
URL:https://kenaiartcenter.org/event/first-friday-opening-reception-3/
LOCATION:Kenai Art Center\, 816 Cook Ave\, Kenai\, AK\, 99611
CATEGORIES:Exhibitions,First Friday
ATTACH;FMTTYPE=image/jpeg:https://kenaiartcenter.org/wp-content/uploads/2022/10/watkins.jpg
ORGANIZER;CN="Kenai Art Center":MAILTO:kenaiartcenter@gmail.com
END:VEVENT
BEGIN:VEVENT
DTSTART;TZID=UTC:20230602T170000
DTEND;TZID=UTC:20230602T190000
DTSTAMP:20260423T152416
CREATED:20230602T044621Z
LAST-MODIFIED:20230602T044621Z
UID:7892-1685725200-1685732400@kenaiartcenter.org
SUMMARY:First Friday Opening Reception
DESCRIPTION:Join us for the First Friday opening reception of “Making Her Mark\,” a group show by painter Charlotte Coots\, potter Shannon Olds\, and painter Abbey Ulen.\n\nJune 2nd\, 5-7pm.\n\nThis bold\, colorful show is an examination and celebration of women and their stories\, choices\, and history. The distinct styles of the three artists are linked thematically\, exploring women as individuals\, in families\, and in mythology\, through sensational ceramic and painted effects. Don’t miss this thoughtful\, unique show!\n\nLive music by Jack Will and Sue Biggs \nFree and open to the public
URL:https://kenaiartcenter.org/event/first-friday-opening-reception-2/
LOCATION:Kenai Art Center\, 816 Cook Ave\, Kenai\, AK\, 99611
CATEGORIES:Exhibitions
ATTACH;FMTTYPE=image/jpeg:https://kenaiartcenter.org/wp-content/uploads/2023/06/June2023-main-banner-web.jpg
ORGANIZER;CN="Kenai Art Center":MAILTO:kenaiartcenter@gmail.com
END:VEVENT
BEGIN:VEVENT
DTSTART;TZID=UTC:20230505T170000
DTEND;TZID=UTC:20230505T190000
DTSTAMP:20260423T152416
CREATED:20230430T052141Z
LAST-MODIFIED:20230502T140151Z
UID:7864-1683306000-1683313200@kenaiartcenter.org
SUMMARY:First Friday Opening Reception
DESCRIPTION:Join us for the opening reception of our two new May shows! \nMay 5th\, 5-7pm. \nMain gallery: “Elaborate Expressions” artwork by Nathan Perry\nRear gallery: “Thursday Art Group” artwork by our wonderful local watercolor painters\, curated by Melinda Hershberger \n \n  \n 
URL:https://kenaiartcenter.org/event/first-friday-opening-reception/
LOCATION:Kenai Art Center\, 816 Cook Ave\, Kenai\, AK\, 99611
CATEGORIES:Exhibitions
ATTACH;FMTTYPE=image/jpeg:https://kenaiartcenter.org/wp-content/uploads/2023/05/may2023-main-banner.jpg
ORGANIZER;CN="Kenai Art Center":MAILTO:kenaiartcenter@gmail.com
END:VEVENT
BEGIN:VEVENT
DTSTART;TZID=UTC:20230407T170000
DTEND;TZID=UTC:20230407T200000
DTSTAMP:20260423T152416
CREATED:20230203T030958Z
LAST-MODIFIED:20230314T024413Z
UID:7767-1680886800-1680897600@kenaiartcenter.org
SUMMARY:First Friday Opening Reception
DESCRIPTION:Join us Friday April 7th\, 5-8pm for the opening of the 32nd Annual Kenai Peninsula Borough School District Juried Student Art Show\, Visual Feast. Middle School awards presented at 5:30pm\, High School awards presented at 6:00pm.
URL:https://kenaiartcenter.org/event/first-thursday-opening-reception-3/
LOCATION:Kenai Art Center\, 816 Cook Ave\, Kenai\, AK\, 99611
CATEGORIES:Exhibitions
ATTACH;FMTTYPE=image/jpeg:https://kenaiartcenter.org/wp-content/uploads/2023/02/artshowposter23-3.jpg
ORGANIZER;CN="Kenai Art Center":MAILTO:kenaiartcenter@gmail.com
END:VEVENT
BEGIN:VEVENT
DTSTART;TZID=UTC:20230303T170000
DTEND;TZID=UTC:20230303T200000
DTSTAMP:20260423T152416
CREATED:20230209T112031Z
LAST-MODIFIED:20230209T112726Z
UID:7775-1677862800-1677873600@kenaiartcenter.org
SUMMARY:First Friday: Bird Call & Beer Release Party
DESCRIPTION:Join us March 3rd\, 5-8pm for a special First FRIDAY! (No First Thursday this March\, come out Friday instead!) \nThe gallery will be filled with bird-themed artwork from our amazing creative community. \nKenai River Brewing Co. will be releasing a new bird-themed beer: Ya Yellow-bellied Sap-Sucker! \nThe Tune Weavers will be providing live music\, including some bird-themed songs\, of course! \nThe opening reception is free and open to the public as always\, but beer will be available for purchase. Proceeds from this fundraiser go towards the KAC’s ongoing building repair & renovation fund\, to continue bringing you big and wonderful changes to this historic Old Town Kenai building. What we’ve done these last couple years\, including the rear gallery/workshop room and the new gallery flooring\, is just the beginning! Hope to see you March 3rd\, thanks for supporting the Kenai Art Center. \n \n 
URL:https://kenaiartcenter.org/event/first-friday-bird-call-beer-release-party/
LOCATION:Kenai Art Center\, 816 Cook Ave\, Kenai\, AK\, 99611
CATEGORIES:Exhibitions,Live Music
ATTACH;FMTTYPE=image/jpeg:https://kenaiartcenter.org/wp-content/uploads/2023/02/sapsucker-graphic-square-web.jpg
END:VEVENT
BEGIN:VEVENT
DTSTART;TZID=UTC:20230303T170000
DTEND;TZID=UTC:20230303T190000
DTSTAMP:20260423T152416
CREATED:20230203T030722Z
LAST-MODIFIED:20230203T030722Z
UID:7764-1677862800-1677870000@kenaiartcenter.org
SUMMARY:Special First Friday Opening Reception
DESCRIPTION:Join us Friday March 3rd\, 5-7pm for the opening of Bird Call\, a community open call show all about birds. \nKenai River Brewing Co. is releasing a brand new beer at the event\, and the Tune Weavers will be playing live music in the gallery. \nSee you here!
URL:https://kenaiartcenter.org/event/special-first-friday-opening-reception/
LOCATION:Kenai Art Center\, 816 Cook Ave\, Kenai\, AK\, 99611
CATEGORIES:First Thursday
ATTACH;FMTTYPE=image/png:https://kenaiartcenter.org/wp-content/uploads/2023/02/Screen-Shot-2023-02-02-at-9.06.35-AM.png
ORGANIZER;CN="Kenai Art Center":MAILTO:kenaiartcenter@gmail.com
END:VEVENT
BEGIN:VEVENT
DTSTART;TZID=UTC:20230202T170000
DTEND;TZID=UTC:20230202T190000
DTSTAMP:20260423T152416
CREATED:20230203T030226Z
LAST-MODIFIED:20230203T031050Z
UID:7762-1675357200-1675364400@kenaiartcenter.org
SUMMARY:First Thursday Opening Reception
DESCRIPTION:Join us 5-7pm for the opening of two new February shows: \nMetalwork & Play \nEd Hutchinson: Alaska Wildlife Portraitures \nSpecial music provided by the Kenai Peninsula Brass Quintet
URL:https://kenaiartcenter.org/event/first-thursday-opening-reception-2/
LOCATION:Kenai Art Center\, 816 Cook Ave\, Kenai\, AK\, 99611
CATEGORIES:First Thursday
ATTACH;FMTTYPE=image/jpeg:https://kenaiartcenter.org/wp-content/uploads/2023/02/feb-23-sq-banner-web.jpg
ORGANIZER;CN="Kenai Art Center":MAILTO:kenaiartcenter@gmail.com
END:VEVENT
BEGIN:VEVENT
DTSTART;TZID=UTC:20220901T170000
DTEND;TZID=UTC:20220901T190000
DTSTAMP:20260423T152416
CREATED:20220828T015859Z
LAST-MODIFIED:20220828T015933Z
UID:7479-1662051600-1662058800@kenaiartcenter.org
SUMMARY:First Thursday
DESCRIPTION:
URL:https://kenaiartcenter.org/event/first-thursday-2/
LOCATION:Kenai Art Center\, 816 Cook Ave\, Kenai\, AK\, 99611
CATEGORIES:First Thursday
END:VEVENT
BEGIN:VEVENT
DTSTART;TZID=UTC:20220901T120000
DTEND;TZID=UTC:20220925T170000
DTSTAMP:20260423T152416
CREATED:20220828T015758Z
LAST-MODIFIED:20220828T015758Z
UID:7477-1662033600-1664125200@kenaiartcenter.org
SUMMARY:Harvest Auction Exhibition
DESCRIPTION:
URL:https://kenaiartcenter.org/event/harvest-auction-exhibition/
LOCATION:Kenai Art Center\, 816 Cook Ave\, Kenai\, AK\, 99611
CATEGORIES:Exhibitions
END:VEVENT
BEGIN:VEVENT
DTSTART;TZID=UTC:20220804T170000
DTEND;TZID=UTC:20220804T190000
DTSTAMP:20260423T152416
CREATED:20220802T072713Z
LAST-MODIFIED:20220802T072713Z
UID:7457-1659632400-1659639600@kenaiartcenter.org
SUMMARY:First Thursday opening reception
DESCRIPTION:Join us for the opening reception of Sites Unseen: Artwork by Graham Dane & Linda Infante Lyons  \nThursday August 4th\, 5-7pm \nFree and open to the public\, refreshments available. \nKenai Art Center\, 816 Cook Ave.
URL:https://kenaiartcenter.org/event/first-thursday-opening-reception/
LOCATION:Kenai Art Center\, 816 Cook Ave\, Kenai\, AK\, 99611
CATEGORIES:Exhibitions,First Thursday
ORGANIZER;CN="Kenai Art Center":MAILTO:kenaiartcenter@gmail.com
END:VEVENT
BEGIN:VEVENT
DTSTART;TZID=UTC:20220804T120000
DTEND;TZID=UTC:20220828T170000
DTSTAMP:20260423T152416
CREATED:20220802T072929Z
LAST-MODIFIED:20220802T073014Z
UID:7459-1659614400-1661706000@kenaiartcenter.org
SUMMARY:August Exhibition
DESCRIPTION:Sites Unseen – Graham Dane and Linda Infante Lyons \nCome visit the gallery Wednesday – Saturday\, noon – 5pm. 816 Cook Ave.
URL:https://kenaiartcenter.org/event/august-exhibition/
LOCATION:Kenai Art Center\, 816 Cook Ave\, Kenai\, AK\, 99611
CATEGORIES:Exhibitions
ATTACH;FMTTYPE=image/jpeg:https://kenaiartcenter.org/wp-content/uploads/2022/08/august-2022-sq-banner-web.jpg
END:VEVENT
BEGIN:VEVENT
DTSTART;TZID=UTC:20220505T170000
DTEND;TZID=UTC:20220505T190000
DTSTAMP:20260423T152416
CREATED:20220505T015625Z
LAST-MODIFIED:20220505T015625Z
UID:7305-1651770000-1651777200@kenaiartcenter.org
SUMMARY:First Thursday Opening Reception: Open Watercolor
DESCRIPTION:OPENING RECEPTION \nJoin us for First Thursday May 5th at 5-7pm. Free and open to the public\, refreshments available\, and music by Nelson Kempf. \nWatercolor is a medium that’s easy to get into but difficult to master. We put out a watercolor-only Call for Art and our talented community artists did not disappoint. With more than 40 paintings entered\, a wide range of watercolor techniques and effects are on display: multi-layered transparent glazes\, watercolor with bodied paint\, dry brush\, Chinese brush painting\, and more. Come be amazed at what can be created with simple materials and a sheet of paper.
URL:https://kenaiartcenter.org/event/first-thursday-opening-reception-open-watercolor/
LOCATION:Kenai Art Center\, 816 Cook Ave\, Kenai\, AK\, 99611
CATEGORIES:First Thursday
ATTACH;FMTTYPE=image/jpeg:https://kenaiartcenter.org/wp-content/uploads/2022/05/may-2022-square-banner-web.jpg
END:VEVENT
BEGIN:VEVENT
DTSTART;TZID=UTC:20220203T170000
DTEND;TZID=UTC:20220203T190000
DTSTAMP:20260423T152416
CREATED:20220130T152055Z
LAST-MODIFIED:20220130T152828Z
UID:7153-1643907600-1643914800@kenaiartcenter.org
SUMMARY:Pale Jail Ale Release Party
DESCRIPTION:The Kenai Art Center and Kenai River Brewing have teamed up to promote one of the best kept secrets in Old Town Kenai\, the Historic Kenai Jail.\n\n\n\nKenai River Brewing will be in the Art Center Feb. 3rd from 5-7 pm serving up their brand new beer: Pale Jail Ale. There is no cover charge for the event\, people 21+ can purchase beer tokens. Pale Jail Ale T-shirt will also be available\, and all proceeds go to support the Kenai Art Center. Live music will be performed in the gallery by the Tune Weavers\, including jail-themed songs and other country favorites. \n  \nThe jail was added to the Kenai Police & Fire Station in 1957. In 1973\, the building was leased to local artists\, who slowly transformed it into the art gallery\, pottery studio\, and workshop space that still thrives today. Come by the Kenai Art Center\, see a show and the preserved historic jail\, and have a beer!
URL:https://kenaiartcenter.org/event/pale-jail-ale-release-party/
LOCATION:Kenai Art Center\, 816 Cook Ave\, Kenai\, AK\, 99611
CATEGORIES:First Thursday
ATTACH;FMTTYPE=image/png:https://kenaiartcenter.org/wp-content/uploads/2022/01/jail-ale-poster-web.png
ORGANIZER;CN="Kenai Art Center":MAILTO:kenaiartcenter@gmail.com
END:VEVENT
BEGIN:VEVENT
DTSTART;VALUE=DATE:20211104
DTEND;VALUE=DATE:20211212
DTSTAMP:20260423T152416
CREATED:20210520T081439Z
LAST-MODIFIED:20210520T081439Z
UID:6677-1635984000-1639267199@kenaiartcenter.org
SUMMARY:Exhibition: Mural Show
DESCRIPTION:
URL:https://kenaiartcenter.org/event/exhibition-mural-show/
CATEGORIES:Exhibitions
END:VEVENT
BEGIN:VEVENT
DTSTART;VALUE=DATE:20211007
DTEND;VALUE=DATE:20211030
DTSTAMP:20260423T152416
CREATED:20210520T081346Z
LAST-MODIFIED:20210520T081346Z
UID:6675-1633564800-1635551999@kenaiartcenter.org
SUMMARY:Exhibition: PAG Member's Exhibition
DESCRIPTION:
URL:https://kenaiartcenter.org/event/exhibition-pag-members-exhibition/
CATEGORIES:Exhibitions
END:VEVENT
BEGIN:VEVENT
DTSTART;TZID=UTC:20210902T170000
DTEND;TZID=UTC:20210902T190000
DTSTAMP:20260423T152416
CREATED:20210824T112829Z
LAST-MODIFIED:20210824T112829Z
UID:6901-1630602000-1630609200@kenaiartcenter.org
SUMMARY:First Thursday
DESCRIPTION:Opening Reception for the new show. 5-7pm
URL:https://kenaiartcenter.org/event/first-thursday/
LOCATION:Kenai Art Center\, 816 Cook Ave\, Kenai\, AK\, 99611
CATEGORIES:First Thursday
END:VEVENT
END:VCALENDAR