BEGIN:VCALENDAR
VERSION:2.0
PRODID:-//Kenai Art Center - ECPv6.15.20//NONSGML v1.0//EN
CALSCALE:GREGORIAN
METHOD:PUBLISH
X-WR-CALNAME:Kenai Art Center
X-ORIGINAL-URL:https://kenaiartcenter.org
X-WR-CALDESC:Events for Kenai Art Center
REFRESH-INTERVAL;VALUE=DURATION:PT1H
X-Robots-Tag:noindex
X-PUBLISHED-TTL:PT1H
BEGIN:VTIMEZONE
TZID:America/Anchorage
BEGIN:DAYLIGHT
TZOFFSETFROM:-0900
TZOFFSETTO:-0800
TZNAME:AKDT
DTSTART:20250309T110000
END:DAYLIGHT
BEGIN:STANDARD
TZOFFSETFROM:-0800
TZOFFSETTO:-0900
TZNAME:AKST
DTSTART:20251102T100000
END:STANDARD
BEGIN:DAYLIGHT
TZOFFSETFROM:-0900
TZOFFSETTO:-0800
TZNAME:AKDT
DTSTART:20260308T110000
END:DAYLIGHT
BEGIN:STANDARD
TZOFFSETFROM:-0800
TZOFFSETTO:-0900
TZNAME:AKST
DTSTART:20261101T100000
END:STANDARD
BEGIN:DAYLIGHT
TZOFFSETFROM:-0900
TZOFFSETTO:-0800
TZNAME:AKDT
DTSTART:20270314T110000
END:DAYLIGHT
BEGIN:STANDARD
TZOFFSETFROM:-0800
TZOFFSETTO:-0900
TZNAME:AKST
DTSTART:20271107T100000
END:STANDARD
END:VTIMEZONE
BEGIN:VEVENT
DTSTART;TZID=America/Anchorage:20260703T170000
DTEND;TZID=America/Anchorage:20260703T190000
DTSTAMP:20260425T063314
CREATED:20260411T023416Z
LAST-MODIFIED:20260424T202111Z
UID:9924-1783098000-1783105200@kenaiartcenter.org
SUMMARY:A MIDLIFE REVERIE   Theresa Ritter    Solo Show
DESCRIPTION:  \n \nWe are excited to welcome artist Theresa Ritter and her solo show titled A MIDLIFE REVERIE to our back gallery in July. \nFirst Friday Opening Reception July 3rd. 5–7 pm. \nFrom Theresa: “Reverie is a state of being pleasantly lost in one’s thoughts; a daydream if you will. I am a lifelong creative who has explored many avenues of expression before falling in love with painting and finding the courage to share it with the world. This past October\, I turned the big 5-0\, which led me to a lot of reflection over the first half of my life leading to the inspiration for this show.  While my reveries of the last 50 years were not always pleasant\, I definitely came across memories that shaped me into the person I have become today. From early childhood memories\, those awkward\, angst-filled teen years and life beyond as a responsible adult…so much packed into all those years that have raced by all too quickly. This body of work is a reflection of some of my memories….” \nThis show will run through July 31st. \nFor more information about Theresa Ritter:https://ohmycraftyheart.com/
URL:https://kenaiartcenter.org/event/a-midlife-reverieritter-solo-show/
LOCATION:Kenai Art Center\, 816 Cook Ave\, Kenai\, AK\, 99611
CATEGORIES:Exhibitions,First Friday
ATTACH;FMTTYPE=image/png:https://kenaiartcenter.org/wp-content/uploads/2026/04/a-midlife-reverie-promo-copy.png
ORGANIZER;CN="Kenai Art Center":MAILTO:kenaiartcenter@gmail.com
END:VEVENT
BEGIN:VEVENT
DTSTART;TZID=America/Anchorage:20260807T170000
DTEND;TZID=America/Anchorage:20260807T190000
DTSTAMP:20260425T063314
CREATED:20260411T025957Z
LAST-MODIFIED:20260417T232831Z
UID:9941-1786122000-1786129200@kenaiartcenter.org
SUMMARY:THREE CURRENTS\, ONE TIDE
DESCRIPTION:Join us in the main gallery for THREE CURRENTS\, ONE TIDE--featuring artists Annette Henry\, Georg-Ann Phillips and Janie Stewart. \nThis group show will feature the works of three artists who work and flow together like currents in a river. \nFirst Friday Opening Reception.  Artist talks\, live music\, and refreshments. Open to the public. \nMore info coming soon.
URL:https://kenaiartcenter.org/event/annette-henry-georg-ann-phillips-janie-stewart-group-show/
LOCATION:Kenai Art Center\, 816 Cook Ave\, Kenai\, AK\, 99611
CATEGORIES:Exhibitions,First Friday
ORGANIZER;CN="Kenai Art Center":MAILTO:kenaiartcenter@gmail.com
END:VEVENT
BEGIN:VEVENT
DTSTART;TZID=America/Anchorage:20260905T170000
DTEND;TZID=America/Anchorage:20260905T190000
DTSTAMP:20260425T063314
CREATED:20260411T030347Z
LAST-MODIFIED:20260411T033014Z
UID:9944-1788627600-1788634800@kenaiartcenter.org
SUMMARY:Abbey Ulen.  Solo Show
DESCRIPTION:Join us in the main gallery in August to experience the works of artist Abbey Ulen. \nFirst Friday Opening Reception August 7th  5–7 pm. \nMore info coming soon!
URL:https://kenaiartcenter.org/event/abbey-ulen-solo-show/
LOCATION:Kenai Art Center\, 816 Cook Ave\, Kenai\, AK\, 99611
CATEGORIES:Exhibitions,First Friday
ORGANIZER;CN="Kenai Art Center":MAILTO:kenaiartcenter@gmail.com
END:VEVENT
BEGIN:VEVENT
DTSTART;TZID=America/Anchorage:20261002T170000
DTEND;TZID=America/Anchorage:20261002T190000
DTSTAMP:20260425T063314
CREATED:20260418T003453Z
LAST-MODIFIED:20260418T003453Z
UID:9981-1790960400-1790967600@kenaiartcenter.org
SUMMARY:SILENT ART AUCTION 2026
DESCRIPTION:  \n \nJoin us in our main gallery in October for our SILENT ART AUCTION annual fundraiser. \nThe Silent Art Auction opens at our First Friday Opening Reception October 2nd 5–7 pm. \nThe largest annual fundraiser for the Kenai Art Center is just around the corner. The KAC staff has handpicked and invited your favorite KAC artists to participate by donating unique and original art for auction at our biggest fundraising event of the year.  Visitors to the gallery will be able to bid on art throughout the month. Bidding closes on Friday October 30th at 5 pm. The winning bidders will be contacted the next day. \nThe Kenai Art Center is 100% funded by private donors and we couldn’t exist without this support. This fundraiser supports the Kenai Art Center’s workshops\, programs\, and preservation of our historic old town Kenai building.  Many thanks to everyone for supporting and participating! \nShow/Bidding dates: Friday October 2nd through Friday October 30th. \nLive Music. Refreshments. Open to the public.
URL:https://kenaiartcenter.org/event/silent-art-auction-2026/
LOCATION:Kenai Art Center\, 816 Cook Ave\, Kenai\, AK\, 99611
CATEGORIES:Exhibitions,First Thursday
ATTACH;FMTTYPE=image/png:https://kenaiartcenter.org/wp-content/uploads/2026/04/silent-art-auction-2026.png
ORGANIZER;CN="Kenai Art Center":MAILTO:kenaiartcenter@gmail.com
END:VEVENT
BEGIN:VEVENT
DTSTART;TZID=America/Anchorage:20261106T170000
DTEND;TZID=America/Anchorage:20261106T190000
DTSTAMP:20260425T063314
CREATED:20260417T214057Z
LAST-MODIFIED:20260417T214057Z
UID:9963-1793984400-1793991600@kenaiartcenter.org
SUMMARY:BIG ART--SMALL DIMENSIONS  Call For Art Exhibition
DESCRIPTION:  \nCall Summary: We invite artists 18 ages to 100+ to submit original artwork for our upcoming BIG ART–SMALL DIMENSIONS (12x12x12) Nov–Dec Exhibition. The goal is to celebrate creativity within a smaller\, uniform\, format. This is an open-theme show.  For Specific show details please visit: https://kenaiartcenter.org/wp-content/uploads/2026/04/12x12X12-Call-For-Art-Show-Prospectus.pdf \nImportant Dates:  \nSubmission Dates: October 3rd through October 31st 2026.  \nOpening Reception: Friday November 6th 5– 7 pm  \nExhibition Dates: Wednesday November 4th through Friday December 18th \nArtwork Post-Show Pick-up: Saturday December 19th during business hours or January 6th through January 30th 2027. \nPlease see our mission statement and vision statement guidelines and subject matter on our “about us” web page.
URL:https://kenaiartcenter.org/event/big-art-small-dimensions-call-for-art-exhibition/
CATEGORIES:Exhibitions,First Friday,Live Music
ATTACH;FMTTYPE=image/png:https://kenaiartcenter.org/wp-content/uploads/2026/04/Big-Art-small-dimensions.png
ORGANIZER;CN="Kenai Art Center":MAILTO:kenaiartcenter@gmail.com
END:VEVENT
END:VCALENDAR