BEGIN:VCALENDAR
VERSION:2.0
PRODID:-//Kenai Art Center - ECPv6.15.20//NONSGML v1.0//EN
CALSCALE:GREGORIAN
METHOD:PUBLISH
X-WR-CALNAME:Kenai Art Center
X-ORIGINAL-URL:https://kenaiartcenter.org
X-WR-CALDESC:Events for Kenai Art Center
REFRESH-INTERVAL;VALUE=DURATION:PT1H
X-Robots-Tag:noindex
X-PUBLISHED-TTL:PT1H
BEGIN:VTIMEZONE
TZID:UTC
BEGIN:STANDARD
TZOFFSETFROM:+0000
TZOFFSETTO:+0000
TZNAME:UTC
DTSTART:20240101T000000
END:STANDARD
END:VTIMEZONE
BEGIN:VEVENT
DTSTART;TZID=UTC:20250606T170000
DTEND;TZID=UTC:20250606T190000
DTSTAMP:20260424T020755
CREATED:20250424T081143Z
LAST-MODIFIED:20250513T040657Z
UID:9164-1749229200-1749236400@kenaiartcenter.org
SUMMARY:WONDER AND WANDER
DESCRIPTION:Main Gallery: WONDER AND WANDER brings together the works of artists Theresa Ritter\, Susan Watkins and Anna Widman.  This group’s creative works are intimately tied to their time spent walking\, exploring\, and wandering through the natural world.  First Friday Opening Reception June 6th 5–7 pm. Live Music by guitarist Bob Parsons. Refreshments. Free Event. Open to the public. This show will run through Thursday July 3rd\, closing at 5 pm. \n \nBack Gallery: STEEL SENTIMENTS featuring metal Artist David Morris. David was inspired to make art after spending time with and caring for his creative father during his father’s later years. David uses raw metals along with scrap metals\, reclaimed engine parts\, and other scraps he discovers.  His tools consist of an MIG welder\, plasma cutter\, oxygen and acetylene torches\, grinders and various hand tools.  In David’s words\, “I get promptings from time to time to create art for beautiful people that cross my path that I feel would be uplifted when they feel seen [through my art]”.  David invites people to look closely and touch and feel his pieces. He wants his art to have a “Touch and Feel factor”. This show will coincide with the main gallery opening reception and run through Friday July 3rd.
URL:https://kenaiartcenter.org/event/wonder-and-wander/
LOCATION:Kenai Art Center\, 816 Cook Ave\, Kenai\, AK\, 99611
CATEGORIES:Exhibitions,First Friday,First Friday,Live Music
END:VEVENT
BEGIN:VEVENT
DTSTART;TZID=UTC:20250606T170000
DTEND;TZID=UTC:20250606T190000
DTSTAMP:20260424T020755
CREATED:20250424T081919Z
LAST-MODIFIED:20250513T044331Z
UID:9179-1749229200-1749236400@kenaiartcenter.org
SUMMARY:STEEL SENTIMENTS featuring metal artist DAVID MORRIS
DESCRIPTION:  \n \nBack Gallery: STEEL SENTIMENTS featuring metal Artist David Morris. David was inspired to make art after spending time with and caring for his creative father during his father’s later years. David uses raw metals along with scrap metals\, reclaimed engine parts\, and other scraps he discovers.  His tools consist of an MIG welder\, plasma cutter\, oxygen and acetylene torches\, grinders and various hand tools.  In David’s words\, “I get promptings from time to time to create art for beautiful people that cross my path that I feel would be uplifted when they feel seen [through my art]”.  David invites people to look closely and touch and feel his pieces. He wants his art to have a “Touch and Feel factor”. This show will coincide with the main gallery opening reception and run through July 3rd.
URL:https://kenaiartcenter.org/event/steel-sentiments-featuring-metal-artist-david-morris/
LOCATION:Kenai Art Center\, 816 Cook Ave\, Kenai\, AK\, 99611
CATEGORIES:Exhibitions,First Friday,First Friday,Live Music
ATTACH;FMTTYPE=image/png:https://kenaiartcenter.org/wp-content/uploads/2025/04/david-morris-june.png
END:VEVENT
END:VCALENDAR