BEGIN:VCALENDAR
VERSION:2.0
PRODID:-//Kenai Art Center - ECPv6.15.20//NONSGML v1.0//EN
CALSCALE:GREGORIAN
METHOD:PUBLISH
X-ORIGINAL-URL:https://kenaiartcenter.org
X-WR-CALDESC:Events for Kenai Art Center
REFRESH-INTERVAL;VALUE=DURATION:PT1H
X-Robots-Tag:noindex
X-PUBLISHED-TTL:PT1H
BEGIN:VTIMEZONE
TZID:UTC
BEGIN:STANDARD
TZOFFSETFROM:+0000
TZOFFSETTO:+0000
TZNAME:UTC
DTSTART:20230101T000000
END:STANDARD
END:VTIMEZONE
BEGIN:VEVENT
DTSTART;TZID=UTC:20240202T170000
DTEND;TZID=UTC:20240202T190000
DTSTAMP:20260423T134304
CREATED:20240201T172539Z
LAST-MODIFIED:20240229T092301Z
UID:8314-1706893200-1706900400@kenaiartcenter.org
SUMMARY:People's Choice Judged Exhibition First Friday February 2024
DESCRIPTION:We have our winners! The people have spoken and the winners are: \n1st Place: Mind Green for “Elephant” \n2nd Place: Moira Ireland for “Vision” \n3rd Place: Sandra Lewis “Peace” \n————————————–
URL:https://kenaiartcenter.org/event/peoples-choice-judged-exhibition-first-friday-february-2024/
LOCATION:Kenai Art Center\, 816 Cook Ave\, Kenai\, AK\, 99611
CATEGORIES:First Friday
ATTACH;FMTTYPE=image/png:https://kenaiartcenter.org/wp-content/uploads/2024/02/winning-artists-announcement.png
END:VEVENT
END:VCALENDAR