BEGIN:VCALENDAR
VERSION:2.0
PRODID:-//Kenai Art Center - ECPv6.15.20//NONSGML v1.0//EN
CALSCALE:GREGORIAN
METHOD:PUBLISH
X-WR-CALNAME:Kenai Art Center
X-ORIGINAL-URL:https://kenaiartcenter.org
X-WR-CALDESC:Events for Kenai Art Center
REFRESH-INTERVAL;VALUE=DURATION:PT1H
X-Robots-Tag:noindex
X-PUBLISHED-TTL:PT1H
BEGIN:VTIMEZONE
TZID:America/Anchorage
BEGIN:DAYLIGHT
TZOFFSETFROM:-0900
TZOFFSETTO:-0800
TZNAME:AKDT
DTSTART:20250309T110000
END:DAYLIGHT
BEGIN:STANDARD
TZOFFSETFROM:-0800
TZOFFSETTO:-0900
TZNAME:AKST
DTSTART:20251102T100000
END:STANDARD
BEGIN:DAYLIGHT
TZOFFSETFROM:-0900
TZOFFSETTO:-0800
TZNAME:AKDT
DTSTART:20260308T110000
END:DAYLIGHT
BEGIN:STANDARD
TZOFFSETFROM:-0800
TZOFFSETTO:-0900
TZNAME:AKST
DTSTART:20261101T100000
END:STANDARD
BEGIN:DAYLIGHT
TZOFFSETFROM:-0900
TZOFFSETTO:-0800
TZNAME:AKDT
DTSTART:20270314T110000
END:DAYLIGHT
BEGIN:STANDARD
TZOFFSETFROM:-0800
TZOFFSETTO:-0900
TZNAME:AKST
DTSTART:20271107T100000
END:STANDARD
END:VTIMEZONE
BEGIN:VEVENT
DTSTART;TZID=America/Anchorage:20261212T100000
DTEND;TZID=America/Anchorage:20261212T170000
DTSTAMP:20260423T161837
CREATED:20260417T222854Z
LAST-MODIFIED:20260417T224059Z
UID:9967-1797069600-1797094800@kenaiartcenter.org
SUMMARY:Kenai Potters Guild Christmas Sale 2026
DESCRIPTION:The Kenai Potters Guild Annual Christmas Pottery Sale! \n10:00 am to 5:00 pm \nCome and see the original and unique pottery for sale at the PAG’s annual Christmas event! \nFor more information\, contact the Kenai Potters Guild here: https://www.kenaipottersguild.com/ \n 
URL:https://kenaiartcenter.org/event/kenai-potters-guild-christmas-sale-2026/
LOCATION:Kenai Art Center\, 816 Cook Ave\, Kenai\, AK\, 99611
CATEGORIES:Annual Events,Community Events,Kenai Potters' Guild
ATTACH;FMTTYPE=image/png:https://kenaiartcenter.org/wp-content/uploads/2026/04/KPG-Christmas-sale-2026.png
END:VEVENT
END:VCALENDAR