BEGIN:VCALENDAR
VERSION:2.0
PRODID:-//Kenai Art Center - ECPv6.15.20//NONSGML v1.0//EN
CALSCALE:GREGORIAN
METHOD:PUBLISH
X-ORIGINAL-URL:https://kenaiartcenter.org
X-WR-CALDESC:Events for Kenai Art Center
REFRESH-INTERVAL;VALUE=DURATION:PT1H
X-Robots-Tag:noindex
X-PUBLISHED-TTL:PT1H
BEGIN:VTIMEZONE
TZID:UTC
BEGIN:STANDARD
TZOFFSETFROM:+0000
TZOFFSETTO:+0000
TZNAME:UTC
DTSTART:20240101T000000
END:STANDARD
END:VTIMEZONE
BEGIN:VEVENT
DTSTART;TZID=UTC:20251003T080000
DTEND;TZID=UTC:20251003T170000
DTSTAMP:20260423T175902
CREATED:20250724T073013Z
LAST-MODIFIED:20250806T152647Z
UID:9381-1759478400-1759510800@kenaiartcenter.org
SUMMARY:Painter MARCO MENDOZA
DESCRIPTION:Join us in the Main Gallery in October for the art of Marco Mendoza and his show titled THROUGH THE EYES OF A DAYDREAMER.  Marco is known for his free flowing and upbeat “graffiti” style paintings. His dynamic shapes and bold colors move and splash across the surface of his large and colorful pieces. Marco has participated in past mural shows and hosted local workshops at the KAC.  We are very excited to be showing Marco’s work! Marco’s show will run from October 1st through October 31st. \nFor more information about Marco\, please visit:  https://www.facebook.com/marco.mendoza.111431 \nOpening Reception Friday October 3rd 5–7pm.  This reception coincides with our Halloween Call-For-Art show in the back gallery.  Live music. Refreshments. Free Event. Open to the public.
URL:https://kenaiartcenter.org/event/painter-marco-mendoza/
LOCATION:Kenai Art Center\, 816 Cook Ave\, Kenai\, AK\, 99611
CATEGORIES:First Friday,Live Music
ATTACH;FMTTYPE=image/png:https://kenaiartcenter.org/wp-content/uploads/2025/07/marco-mendoza.png
ORGANIZER;CN="Kenai Art Center":MAILTO:kenaiartcenter@gmail.com
END:VEVENT
END:VCALENDAR