BEGIN:VCALENDAR
VERSION:2.0
PRODID:-//Kenai Art Center - ECPv6.15.20//NONSGML v1.0//EN
CALSCALE:GREGORIAN
METHOD:PUBLISH
X-ORIGINAL-URL:https://kenaiartcenter.org
X-WR-CALDESC:Events for Kenai Art Center
REFRESH-INTERVAL;VALUE=DURATION:PT1H
X-Robots-Tag:noindex
X-PUBLISHED-TTL:PT1H
BEGIN:VTIMEZONE
TZID:UTC
BEGIN:STANDARD
TZOFFSETFROM:+0000
TZOFFSETTO:+0000
TZNAME:UTC
DTSTART:20230101T000000
END:STANDARD
END:VTIMEZONE
BEGIN:VEVENT
DTSTART;TZID=UTC:20241108T170000
DTEND;TZID=UTC:20241108T190000
DTSTAMP:20260424T142315
CREATED:20241005T104827Z
LAST-MODIFIED:20241006T092901Z
UID:8809-1731085200-1731092400@kenaiartcenter.org
SUMMARY:TEXTURES--Kenai Peninsula Quilter's Guild Annual Block Challenge
DESCRIPTION:In the back gallery we will have works on display by the Kenai Peninsula Quilter’s Guild in the show  titled TEXTURES. Every year the guild picks a new theme that presents them with different ways to challenge their creativity and artistic skill. \nFirst Friday Opening Reception November 8th 5–7 pm. Live guitar music by Harold Rudstrom. Refreshments. Free event. Open to the public. \n 
URL:https://kenaiartcenter.org/event/texture-kenai-peninsula-quilters-guild-annual-block-challenge/
CATEGORIES:First Friday,Live Music
ATTACH;FMTTYPE=image/png:https://kenaiartcenter.org/wp-content/uploads/2024/10/KPGQ-challenge-november.png
ORGANIZER;CN="Kenai Art Center":MAILTO:kenaiartcenter@gmail.com
END:VEVENT
END:VCALENDAR