BEGIN:VCALENDAR
VERSION:2.0
PRODID:-//Kenai Art Center - ECPv6.15.20//NONSGML v1.0//EN
CALSCALE:GREGORIAN
METHOD:PUBLISH
X-WR-CALNAME:Kenai Art Center
X-ORIGINAL-URL:https://kenaiartcenter.org
X-WR-CALDESC:Events for Kenai Art Center
REFRESH-INTERVAL;VALUE=DURATION:PT1H
X-Robots-Tag:noindex
X-PUBLISHED-TTL:PT1H
BEGIN:VTIMEZONE
TZID:UTC
BEGIN:STANDARD
TZOFFSETFROM:+0000
TZOFFSETTO:+0000
TZNAME:UTC
DTSTART:20210101T000000
END:STANDARD
END:VTIMEZONE
BEGIN:VEVENT
DTSTART;VALUE=DATE:20241215
DTEND;VALUE=DATE:20250104
DTSTAMP:20260423T125353
CREATED:20241121T104609Z
LAST-MODIFIED:20241121T104609Z
UID:8905-1734220800-1735948799@kenaiartcenter.org
SUMMARY:Holiday   Closure
DESCRIPTION:Hello art lovers! We will be closing for a couple weeks starting on Sunday December 15th until Friday January 3rd–when we will open for our first 2025 show titled KINETIC! Happy Holidays! for information about our KINETIC show please go here: https://kenaiartcenter.org/event/kinetic-january-2025/
URL:https://kenaiartcenter.org/event/holiday-closure/
CATEGORIES:First Friday,First Friday,Live Music
ATTACH;FMTTYPE=image/png:https://kenaiartcenter.org/wp-content/uploads/2024/11/holiday-closure.png
END:VEVENT
BEGIN:VEVENT
DTSTART;TZID=UTC:20241108T170000
DTEND;TZID=UTC:20241108T190000
DTSTAMP:20260423T125353
CREATED:20241005T104827Z
LAST-MODIFIED:20241006T092901Z
UID:8809-1731085200-1731092400@kenaiartcenter.org
SUMMARY:TEXTURES--Kenai Peninsula Quilter's Guild Annual Block Challenge
DESCRIPTION:In the back gallery we will have works on display by the Kenai Peninsula Quilter’s Guild in the show  titled TEXTURES. Every year the guild picks a new theme that presents them with different ways to challenge their creativity and artistic skill. \nFirst Friday Opening Reception November 8th 5–7 pm. Live guitar music by Harold Rudstrom. Refreshments. Free event. Open to the public. \n 
URL:https://kenaiartcenter.org/event/texture-kenai-peninsula-quilters-guild-annual-block-challenge/
CATEGORIES:First Friday,Live Music
ATTACH;FMTTYPE=image/png:https://kenaiartcenter.org/wp-content/uploads/2024/10/KPGQ-challenge-november.png
ORGANIZER;CN="Kenai Art Center":MAILTO:kenaiartcenter@gmail.com
END:VEVENT
BEGIN:VEVENT
DTSTART;TZID=UTC:20241004T170000
DTEND;TZID=UTC:20241004T190000
DTSTAMP:20260423T125353
CREATED:20240914T035347Z
LAST-MODIFIED:20240914T035347Z
UID:8787-1728061200-1728068400@kenaiartcenter.org
SUMMARY:Susie Scrivner--Portraits Of The Kenai
DESCRIPTION:Susie Scrivner is a self taught painter\, sculptor\, leathersmith\, glass worker\, musician and much more. She is the owner of SZQ Studio in Soldotna\, Alaska. After she suffered a severe life changing illness\, Susie began to delve into painting and other forms of art. According to Susie before she ever sold any work\, she listed a painting “As a fluke…[in] a local ad and when it sold\, I began to wonder if this closed door that I had viewed with so much loss and grief\, was perhaps actually a guiding wall that if I had the courage to follow it\, would direct me to a new place where life could breathe through me once more.”  \nWe invite you to the solo show PORTRAITS OF THE KENAI to see the many glorious works by Susie Scrivner at our First Friday Opening Reception on Friday October 4th\, 5–7 pm.  Live piano by Maria Allison. Appetizers. Free event open to the Public.
URL:https://kenaiartcenter.org/event/susie-scrivner-portraits-of-the-kenai/
LOCATION:Kenai Art Center\, 816 Cook Ave\, Kenai\, AK\, 99611
CATEGORIES:First Friday,First Friday,Live Music
ATTACH;FMTTYPE=image/png:https://kenaiartcenter.org/wp-content/uploads/2024/09/October-2024-Web-Flier.png
ORGANIZER;CN="Kenai Art Center":MAILTO:kenaiartcenter@gmail.com
END:VEVENT
BEGIN:VEVENT
DTSTART;TZID=UTC:20240913T190000
DTEND;TZID=UTC:20240913T210000
DTSTAMP:20260423T125353
CREATED:20240906T153452Z
LAST-MODIFIED:20240906T153452Z
UID:8774-1726254000-1726261200@kenaiartcenter.org
SUMMARY:BOYLE\, BLACKWELL\, and KEMPF Live in Concert at the KAC!
DESCRIPTION:for more info about the musicians: \nNelson Kempf musicnelsonkempf.comhttp://nelsonkempf.com\nhttps://www.abigailblackwell.com/\nKeeley Boyle: InvitingBandcamphttps://keeleyboyle1.bandcamp.com
URL:https://kenaiartcenter.org/event/boyle-blackwell-and-kempf-live-in-concert-at-the-kac/
CATEGORIES:2024 Events,Live Music
END:VEVENT
BEGIN:VEVENT
DTSTART;TZID=UTC:20240906T170000
DTEND;TZID=UTC:20240906T190000
DTSTAMP:20260423T125353
CREATED:20240808T085100Z
LAST-MODIFIED:20240906T145255Z
UID:8723-1725642000-1725649200@kenaiartcenter.org
SUMMARY:MOMENTUM--KAC SILENT ART AUCTION 2024
DESCRIPTION:Our September & October 2024 fundraiser will be a little bit different this year. Instead of the usual Harvest Art Auction & the Silent Art Auction\, in the back gallery we will have on exhibition MOMENTUM–KAC SILENT ART AUCTION 2024.  The Kenai Art Center has been around for 70 years….and we want to carry that momentum into the future for at least seventy more years! We have invited local artists to exhibit and offer their work at a reduced rate so you can take advantage of the opportunity to purchase amazing art at a fraction of the original cost. In the back gallery\, The silent bidding will open on Friday September 6th at 5 pm in conjunction with the First Friday Opening Reception of the Aquarelle watercolor show happening in the main gallery.  Gallery visitors will have from September 6th until October 25th to bid to own their favorite pieces. This is the main fundraising event of the year for the KAC and the proceeds will go to updating and repairing our beloved old building (new boiler\, lighting system\, new roof\, to name a few). In the past\, we have asked the participating artists to donate their work with 100% of the proceeds going directly to the art center. Because our mission is to help support local artists\, this year we felt we wanted to adhere to that mission more closely and have given the artists the option to donate 100% of the sale of their art to the KAC or they can choose to receive 30% of the auction sale of the piece they donate.  This is going to be an amazing event! First Friday Opening Reception Sept 6ht 5–7 pm. Live music by the TUNEWEAVERS! Delicous appetizers and wine will be served.  Free event and open to the public.
URL:https://kenaiartcenter.org/event/the-kac-silent-art-auction-2024/
CATEGORIES:Exhibitions,First Friday,First Friday,Live Music
ATTACH;FMTTYPE=image/png:https://kenaiartcenter.org/wp-content/uploads/2024/09/September-web-flier-2024-copy-2.png
ORGANIZER;CN="Kenai Art Center":MAILTO:kenaiartcenter@gmail.com
END:VEVENT
BEGIN:VEVENT
DTSTART;TZID=UTC:20240824T190000
DTEND;TZID=UTC:20240824T203000
DTSTAMP:20260423T125353
CREATED:20240725T090747Z
LAST-MODIFIED:20240725T090747Z
UID:8698-1724526000-1724531400@kenaiartcenter.org
SUMMARY:Michael Gulezian Live in Concert at the KAC!
DESCRIPTION:Tickets on sale at the KAC only. Only 30 spots available. We are really fortunate that Michael is sharing his music with us. Come and enjoy a great night of music and art.
URL:https://kenaiartcenter.org/event/michael-gulezian-live-in-concert-at-the-kac/
CATEGORIES:Live Music
ATTACH;FMTTYPE=image/png:https://kenaiartcenter.org/wp-content/uploads/2024/07/michael-smaller-flier-.png
ORGANIZER;CN="Kenai Art Center":MAILTO:kenaiartcenter@gmail.com
END:VEVENT
BEGIN:VEVENT
DTSTART;TZID=UTC:20230923T130000
DTEND;TZID=UTC:20230923T150000
DTSTAMP:20260423T125353
CREATED:20230914T112810Z
LAST-MODIFIED:20230914T112810Z
UID:8052-1695474000-1695481200@kenaiartcenter.org
SUMMARY:Wild Shore Family Concert
DESCRIPTION:Wild Shore New Music presents an interactive Family Concert for all ages.  Explore melody\, rhythm\, and compose new music! Hosted by the Kenai Art Center. \nSaturday September 23rd  1 pm \n 
URL:https://kenaiartcenter.org/event/wild-shore-family-concert/
LOCATION:Kenai Art Center\, 816 Cook Ave\, Kenai\, AK\, 99611
CATEGORIES:Live Music
ATTACH;FMTTYPE=image/png:https://kenaiartcenter.org/wp-content/uploads/2023/09/Family-Concert-Wild-Shore-1-1.png
ORGANIZER;CN="Kenai Art Center":MAILTO:kenaiartcenter@gmail.com
END:VEVENT
BEGIN:VEVENT
DTSTART;TZID=UTC:20230303T170000
DTEND;TZID=UTC:20230303T200000
DTSTAMP:20260423T125353
CREATED:20230209T112031Z
LAST-MODIFIED:20230209T112726Z
UID:7775-1677862800-1677873600@kenaiartcenter.org
SUMMARY:First Friday: Bird Call & Beer Release Party
DESCRIPTION:Join us March 3rd\, 5-8pm for a special First FRIDAY! (No First Thursday this March\, come out Friday instead!) \nThe gallery will be filled with bird-themed artwork from our amazing creative community. \nKenai River Brewing Co. will be releasing a new bird-themed beer: Ya Yellow-bellied Sap-Sucker! \nThe Tune Weavers will be providing live music\, including some bird-themed songs\, of course! \nThe opening reception is free and open to the public as always\, but beer will be available for purchase. Proceeds from this fundraiser go towards the KAC’s ongoing building repair & renovation fund\, to continue bringing you big and wonderful changes to this historic Old Town Kenai building. What we’ve done these last couple years\, including the rear gallery/workshop room and the new gallery flooring\, is just the beginning! Hope to see you March 3rd\, thanks for supporting the Kenai Art Center. \n \n 
URL:https://kenaiartcenter.org/event/first-friday-bird-call-beer-release-party/
LOCATION:Kenai Art Center\, 816 Cook Ave\, Kenai\, AK\, 99611
CATEGORIES:Exhibitions,Live Music
ATTACH;FMTTYPE=image/jpeg:https://kenaiartcenter.org/wp-content/uploads/2023/02/sapsucker-graphic-square-web.jpg
END:VEVENT
BEGIN:VEVENT
DTSTART;TZID=UTC:20220609T190000
DTEND;TZID=UTC:20220609T220000
DTSTAMP:20260423T125353
CREATED:20220515T045839Z
LAST-MODIFIED:20220515T082810Z
UID:7309-1654801200-1654812000@kenaiartcenter.org
SUMMARY:June 9 - Live Concert: Wild Shore New Music
DESCRIPTION:Wild Shore New Music Features the Music of Joseph C. Phillips Jr.  \n  \nKenai Art Center welcomes Wild Shore New Music\, a New York-based\, Alaska-raised chamber music collective featuring composer Joseph C. Phillips Jr. on Thursday\, June 9\, 2022 at 7 p.m at the Kenai Art Center located at 816 Cook Dr\, Kenai\, AK 99611.  \nThe concert is a free event with a suggested donation of $20 at the door.  \n  \nWild Shore New Music presents new chamber music in south-central Alaska and is one of the only organizations dedicated to contemporary chamber music in the state of Alaska. Wild Shore fosters collaborations between living composers\, versatile musicians from all over the U.S.\, and creative artists and residents from the state of Alaska. ​Founded in 2012 by three Alaska-raised musicians\, Wild Shore presents concerts\, lecture recitals\, and education workshops across Alaska and the US. This year\, Wild Shore will feature musicians from Alaska performing the works of Brooklyn-based composer Joseph C. Phillips Jr. and have a group of performers from New York and Alaska.  \n  \nThe program will feature several of Mr. Phillips’ works including Unlimited\, from his larger work Changing Same. Mr. Phillip writes that Unlimited is “about my conscious acknowledgment of my heritage in popular and contemporary music and culture\, but reflects a post-black aesthetic… Through a lens of individual experience\, Changing Same explores some of this richness\, diversity\, and complexity of blackness in America during my lifetime.” \n  \nOther works include The Spell of Vanishing Loveliness\, a piece about Mr. Phillips’ personal experience on the day the Twin Towers were attacked\, and Never Has Been Yet\, a piece for piano and narrator setting the text of Langston Hughes’ poem “Let America Be America Again.” \n  \nPerformers Includes:  \nSunrose Winslow\, voice (Homer\, AK) \nKatie Cox\, flute (Brooklyn\, NY) \nSandra Cox\, clarinet (Anchorage\, AK) \nRose Crelli\, violin (San Francisco\, CA) \nAndie Tanning\, viola (Brooklyn\, NY) \nMannfried Funk\, cello (Homer\, AK) \nKade Bissell\, percussion (Anchorage\, AK) \nScott Hansen\, piano (Fairbanks\, AK) \nJame Moore\, guitar (Princeton\, NJ) \nJoseph C. Phillips Jr.\, composer/conductor (Brooklyn\, NY) \n  \n 
URL:https://kenaiartcenter.org/event/live-concert-wild-shore-new-music/
LOCATION:Kenai Art Center\, 816 Cook Ave\, Kenai\, AK\, 99611
CATEGORIES:Live Music
ATTACH;FMTTYPE=image/jpeg:https://kenaiartcenter.org/wp-content/uploads/2022/05/KENAI-Wild-Shore-Poster-2022-11X17.jpg
ORGANIZER;CN="Kenai Art Center":MAILTO:kenaiartcenter@gmail.com
END:VEVENT
END:VCALENDAR