BEGIN:VCALENDAR
VERSION:2.0
PRODID:-//Kenai Art Center - ECPv6.15.20//NONSGML v1.0//EN
CALSCALE:GREGORIAN
METHOD:PUBLISH
X-ORIGINAL-URL:https://kenaiartcenter.org
X-WR-CALDESC:Events for Kenai Art Center
REFRESH-INTERVAL;VALUE=DURATION:PT1H
X-Robots-Tag:noindex
X-PUBLISHED-TTL:PT1H
BEGIN:VTIMEZONE
TZID:UTC
BEGIN:STANDARD
TZOFFSETFROM:+0000
TZOFFSETTO:+0000
TZNAME:UTC
DTSTART:20230101T000000
END:STANDARD
END:VTIMEZONE
BEGIN:VEVENT
DTSTART;TZID=UTC:20240323T130000
DTEND;TZID=UTC:20240323T160000
DTSTAMP:20260425T070343
CREATED:20240215T071804Z
LAST-MODIFIED:20240312T101210Z
UID:8356-1711198800-1711209600@kenaiartcenter.org
SUMMARY:Broom Class
DESCRIPTION:UPDATED DATE!!  Saturday March 23rd 1–4 pm!!   Willow Q Jones will be teaching a three hour class where you will make at least one\, maybe two beautiful and functional hand brooms. All materials and tools provided. Just need your hands\, a learning mind\, and be prepared to work barefoot! Some sharp tools and strength involved. Saturday March 23rd 1–4 pm @ the Kenai Art Center! \n$65 per person. To reserve your spot contact Willow at willowqjones@gmail.com or Instagram @willowqjones
URL:https://kenaiartcenter.org/event/broom-class/
LOCATION:AK
CATEGORIES:Workshops
ATTACH;FMTTYPE=image/jpeg:https://kenaiartcenter.org/wp-content/uploads/2024/02/31872048_web1_HOM_021623_neighbor-cmyk_2.jpg
ORGANIZER;CN="Kenai Art Center":MAILTO:kenaiartcenter@gmail.com
END:VEVENT
END:VCALENDAR