BEGIN:VCALENDAR
VERSION:2.0
PRODID:-//Kenai Art Center - ECPv6.15.20//NONSGML v1.0//EN
CALSCALE:GREGORIAN
METHOD:PUBLISH
X-ORIGINAL-URL:https://kenaiartcenter.org
X-WR-CALDESC:Events for Kenai Art Center
REFRESH-INTERVAL;VALUE=DURATION:PT1H
X-Robots-Tag:noindex
X-PUBLISHED-TTL:PT1H
BEGIN:VTIMEZONE
TZID:UTC
BEGIN:STANDARD
TZOFFSETFROM:+0000
TZOFFSETTO:+0000
TZNAME:UTC
DTSTART:20240101T000000
END:STANDARD
END:VTIMEZONE
BEGIN:VEVENT
DTSTART;TZID=UTC:20251127T080000
DTEND;TZID=UTC:20260304T170000
DTSTAMP:20260423T115338
CREATED:20251127T105425Z
LAST-MODIFIED:20251127T110251Z
UID:9610-1764230400-1772643600@kenaiartcenter.org
SUMMARY:CALL FOR ARTISTS...to teach workshops at the KAC
DESCRIPTION:The KAC is looking for experienced artists to teach workshops at the Kenai Art Center in 2026. \nPainting\, drawing\, clay works\, fiber\, collage\, weaving\, print making\, etc! If you love creating and teaching others how to create\, we would love to host your workshop here at the KAC. \nWorkshop artists are responsible for: \n\nPoint of sale for all workshop fees\n$45  building use fee (payable to the KAC before or on the day of the workshop)\nall workshop materials\n\nWorkshop artists keep 100% of workshop fees. The KAC will provide advertising\, tables\, chairs\, and other support items. \nIf you would like to be considered for booking a workshop with us\, please contact us via email at kenaiartcenter@gmail.com (attention Charlotte). Please include: \n\nA clear and detailed description of your workshop idea\nImages of the finished the product\nAn artist statement telling us why your workshop will help grow creativity and the love of arts in our area.\n\n  \n  \n 
URL:https://kenaiartcenter.org/event/call-for-artists-to-teach-workshops-at-the-kac/
LOCATION:AK
CATEGORIES:Around the Community,Call For Art,Workshops
ATTACH;FMTTYPE=image/png:https://kenaiartcenter.org/wp-content/uploads/2025/11/workshop-call-for-artists.png
END:VEVENT
BEGIN:VEVENT
DTSTART;TZID=UTC:20260321T140000
DTEND;TZID=UTC:20260321T160000
DTSTAMP:20260423T115338
CREATED:20260129T091422Z
LAST-MODIFIED:20260129T091422Z
UID:9726-1774101600-1774108800@kenaiartcenter.org
SUMMARY:DOT MANDALA NECKLACE Workshop with Rachel Grossl
DESCRIPTION:Cost: $25  or $40 for two students. Cash and check only. Reserve your spot at the KAC \nAge: 10 yrs to 100 \nAll Supplies Included \n16 spots available \nFor Questions\, contact Rachel at 907-953-3288 \nMore info about the workshop: Dot Mandala Necklace Class \n  \n 
URL:https://kenaiartcenter.org/event/dot-mandala-necklace-workshop-with-rachel-grossl/
LOCATION:Kenai Art Center\, 816 Cook Ave\, Kenai\, AK\, 99611
CATEGORIES:Workshops
ATTACH;FMTTYPE=image/png:https://kenaiartcenter.org/wp-content/uploads/2026/01/mandala-workshop-poster.png
END:VEVENT
BEGIN:VEVENT
DTSTART;TZID=UTC:20260324T173000
DTEND;TZID=UTC:20260324T203000
DTSTAMP:20260423T115338
CREATED:20260319T072352Z
LAST-MODIFIED:20260319T072352Z
UID:9848-1774373400-1774384200@kenaiartcenter.org
SUMMARY:Decorative Egg Workshop with Sandra Lewis
DESCRIPTION:Join teacher and artist Sandra Lewis to learn how to create your own Origami Paper Covered Eggs and Batik Eggs. \nJust in time for Easter or Mother’s Day. A gift for someone else or for YOU.  No experience needed. \nSupplies included in workshop fee. \nTo reserve your spot email Sandra at: sklewis60@gmail.com. (cash\, check\, Venmo welcome) \n 
URL:https://kenaiartcenter.org/event/decorative-egg-workshop-with-sandra-lewis/
LOCATION:Kenai Art Center\, 816 Cook Ave\, Kenai\, AK\, 99611
CATEGORIES:Workshops
ATTACH;FMTTYPE=image/png:https://kenaiartcenter.org/wp-content/uploads/2026/03/decorative-egg-wkshop.png
ORGANIZER;CN="Kenai Art Center":MAILTO:kenaiartcenter@gmail.com
END:VEVENT
END:VCALENDAR