BEGIN:VCALENDAR
VERSION:2.0
PRODID:-//Kenai Art Center - ECPv6.15.20//NONSGML v1.0//EN
CALSCALE:GREGORIAN
METHOD:PUBLISH
X-WR-CALNAME:Kenai Art Center
X-ORIGINAL-URL:https://kenaiartcenter.org
X-WR-CALDESC:Events for Kenai Art Center
REFRESH-INTERVAL;VALUE=DURATION:PT1H
X-Robots-Tag:noindex
X-PUBLISHED-TTL:PT1H
BEGIN:VTIMEZONE
TZID:UTC
BEGIN:STANDARD
TZOFFSETFROM:+0000
TZOFFSETTO:+0000
TZNAME:UTC
DTSTART:20250101T000000
END:STANDARD
END:VTIMEZONE
BEGIN:VEVENT
DTSTART;TZID=UTC:20260530T100000
DTEND;TZID=UTC:20260530T140000
DTSTAMP:20260423T131959
CREATED:20260325T035826Z
LAST-MODIFIED:20260330T222647Z
UID:9856-1780135200-1780149600@kenaiartcenter.org
SUMMARY:COPTIC BOOK BINDING with Diane Peterson
DESCRIPTION:Join artist Diane Peterson as she teaches participants the basics and beauty of custom coptic book binding. This binding method dates back to ancient practices from Egypt and Northern Africa and has held up in modern day as a great way to create journals\, sketch books\, art books and/or any book that needs to be durable\, sturdy and lie perfectly flat. \n$75 Workshop fee includes a book binding kit for each participant as well as a book to take home. \nTo reserve your spot\, venmo Diane at: Diane-Peterson-888 \n  \nAbout The Artist: \n \nDiane Peterson lives in Kenai\,\nAlaska. She is a multidisciplinary artist with a focus on installation and performance art. She came upon bookbinding by taking a class in Paris\, France in 2018. “I am now at a point in this craft that I would like to teach others.” Diane is also the Coordinator of the monthly Art Hive at the Kenai Art Center. The Art Hive is an open studio for the public to come and create art free of charge. Second Saturday of each month 9am-Noon. For more Art Hive info:https://kenaiartcenter.org/https-kenaiartcenter-org-wp-admin-post-phppost6394actionedit/
URL:https://kenaiartcenter.org/event/coptic-book-binding-with-diane-peterson/
LOCATION:Kenai Art Center\, 816 Cook Ave\, Kenai\, AK\, 99611
CATEGORIES:Around the Community,Workshops
END:VEVENT
END:VCALENDAR