BEGIN:VCALENDAR
VERSION:2.0
PRODID:-//Kenai Art Center - ECPv6.15.20//NONSGML v1.0//EN
CALSCALE:GREGORIAN
METHOD:PUBLISH
X-WR-CALNAME:Kenai Art Center
X-ORIGINAL-URL:https://kenaiartcenter.org
X-WR-CALDESC:Events for Kenai Art Center
REFRESH-INTERVAL;VALUE=DURATION:PT1H
X-Robots-Tag:noindex
X-PUBLISHED-TTL:PT1H
BEGIN:VTIMEZONE
TZID:UTC
BEGIN:STANDARD
TZOFFSETFROM:+0000
TZOFFSETTO:+0000
TZNAME:UTC
DTSTART:20220101T000000
END:STANDARD
END:VTIMEZONE
BEGIN:VEVENT
DTSTART;TZID=UTC:20230715T120000
DTEND;TZID=UTC:20230715T150000
DTSTAMP:20260425T135641
CREATED:20230706T041252Z
LAST-MODIFIED:20230706T041510Z
UID:7923-1689422400-1689433200@kenaiartcenter.org
SUMMARY:Workshop: Gel Plate Printing and Journal Binding
DESCRIPTION:Learn the printmaking technique using gel plates.  You will then bind your work into an art journal using the Japanese Stab method of binding. \n$65 \nAppropriate for ages 13 and older \nTo enroll in this workshop\, please contact instructor Diane Dunn directly. Contact info below. 
URL:https://kenaiartcenter.org/event/workshop-gel-plate-printing-and-journal-binding/
LOCATION:Kenai Art Center\, 816 Cook Ave\, Kenai\, AK\, 99611
CATEGORIES:Workshops
ATTACH;FMTTYPE=image/jpeg:https://kenaiartcenter.org/wp-content/uploads/2023/04/image0.jpeg
ORGANIZER;CN="Diane Dunn":MAILTO:darkfruitfly@gmail.com
END:VEVENT
BEGIN:VEVENT
DTSTART;TZID=UTC:20230729T120000
DTEND;TZID=UTC:20230729T150000
DTSTAMP:20260425T135641
CREATED:20230706T042230Z
LAST-MODIFIED:20230706T042230Z
UID:7927-1690632000-1690642800@kenaiartcenter.org
SUMMARY:Workshop: Gel Plate Printing and Journal Binding
DESCRIPTION:Learn the printmaking technique using gel plates.  You will then bind your work into an art journal using the Japanese Stab method of binding. \n$65 \nAppropriate for ages 13 and older \nTo enroll in this workshop\, please contact instructor Diane Dunn directly. Contact info below. \n 
URL:https://kenaiartcenter.org/event/workshop-gel-plate-printing-and-journal-binding-2/
LOCATION:Kenai Art Center\, 816 Cook Ave\, Kenai\, AK\, 99611
CATEGORIES:Workshops
ATTACH;FMTTYPE=image/jpeg:https://kenaiartcenter.org/wp-content/uploads/2023/04/diane-dunn-workshop-image.jpg
ORGANIZER;CN="Diane Dunn":MAILTO:darkfruitfly@gmail.com
END:VEVENT
END:VCALENDAR