BEGIN:VCALENDAR
VERSION:2.0
PRODID:-//Kenai Art Center - ECPv6.15.20//NONSGML v1.0//EN
CALSCALE:GREGORIAN
METHOD:PUBLISH
X-ORIGINAL-URL:https://kenaiartcenter.org
X-WR-CALDESC:Events for Kenai Art Center
REFRESH-INTERVAL;VALUE=DURATION:PT1H
X-Robots-Tag:noindex
X-PUBLISHED-TTL:PT1H
BEGIN:VTIMEZONE
TZID:UTC
BEGIN:STANDARD
TZOFFSETFROM:+0000
TZOFFSETTO:+0000
TZNAME:UTC
DTSTART:20230101T000000
END:STANDARD
END:VTIMEZONE
BEGIN:VEVENT
DTSTART;VALUE=DATE:20241215
DTEND;VALUE=DATE:20250104
DTSTAMP:20260424T022615
CREATED:20241121T104609Z
LAST-MODIFIED:20241121T104609Z
UID:8905-1734220800-1735948799@kenaiartcenter.org
SUMMARY:Holiday   Closure
DESCRIPTION:Hello art lovers! We will be closing for a couple weeks starting on Sunday December 15th until Friday January 3rd–when we will open for our first 2025 show titled KINETIC! Happy Holidays! for information about our KINETIC show please go here: https://kenaiartcenter.org/event/kinetic-january-2025/
URL:https://kenaiartcenter.org/event/holiday-closure/
LOCATION:AK
CATEGORIES:First Friday,First Friday,Live Music
ATTACH;FMTTYPE=image/png:https://kenaiartcenter.org/wp-content/uploads/2024/11/holiday-closure.png
END:VEVENT
BEGIN:VEVENT
DTSTART;TZID=UTC:20250103T170000
DTEND;TZID=UTC:20250103T190000
DTSTAMP:20260424T022616
CREATED:20241017T140636Z
LAST-MODIFIED:20241227T084214Z
UID:8828-1735923600-1735930800@kenaiartcenter.org
SUMMARY:KINETIC JANUARY 2025
DESCRIPTION:In our main gallery we will have on exhibit a call for art-in-motion show titled KINETIC.  Kinetic art is a manifestation of the fascination with motion which defines a whole swathe of modern art from Impressionism onwards.  First Friday Opening Reception for KINETIC will be January 3rd 2025\, 5–7 pm. Live Music by the Kenai River Brass Quintet. Refreshments. Free event. Open to the public.
URL:https://kenaiartcenter.org/event/kinetic-january-2025/
LOCATION:AK
CATEGORIES:First Friday
ATTACH;FMTTYPE=image/png:https://kenaiartcenter.org/wp-content/uploads/2024/12/january-2025-kinetic.png
ORGANIZER;CN="Kenai Art Center":MAILTO:kenaiartcenter@gmail.com
END:VEVENT
BEGIN:VEVENT
DTSTART;TZID=UTC:20250125T130000
DTEND;TZID=UTC:20250125T160000
DTSTAMP:20260424T022616
CREATED:20241121T082044Z
LAST-MODIFIED:20250114T081554Z
UID:8898-1737810000-1737820800@kenaiartcenter.org
SUMMARY:Jelly Plate Printing Workshop with Diane Peterson
DESCRIPTION:Come and learn from artist Diane Peterson how to create beautiful prints with jelly pigment. \nSaturday January 25th 1–4 pm.  For ages 15+ \nCost: $30 \nTo reserve your spot\, Venmo the artist @Diane-Peterson-888\, call or stop by the Kenai Art Center to get your name on the list. Payment is due before start of the workshop. \n816 Cook Avenue\, Kenai (in oldtown across from the Bingo Hall) \n907-283-7040.
URL:https://kenaiartcenter.org/event/jelly-plate-printing-workshop-with-diane-peterson/
LOCATION:AK
CATEGORIES:Workshops
ATTACH;FMTTYPE=image/jpeg:https://kenaiartcenter.org/wp-content/uploads/2023/04/image0.jpeg
ORGANIZER;CN="Kenai Art Center":MAILTO:kenaiartcenter@gmail.com
END:VEVENT
END:VCALENDAR