BEGIN:VCALENDAR
VERSION:2.0
PRODID:-//Kenai Art Center - ECPv6.15.20//NONSGML v1.0//EN
CALSCALE:GREGORIAN
METHOD:PUBLISH
X-ORIGINAL-URL:https://kenaiartcenter.org
X-WR-CALDESC:Events for Kenai Art Center
REFRESH-INTERVAL;VALUE=DURATION:PT1H
X-Robots-Tag:noindex
X-PUBLISHED-TTL:PT1H
BEGIN:VTIMEZONE
TZID:UTC
BEGIN:STANDARD
TZOFFSETFROM:+0000
TZOFFSETTO:+0000
TZNAME:UTC
DTSTART:20240101T000000
END:STANDARD
END:VTIMEZONE
BEGIN:VEVENT
DTSTART;TZID=UTC:20250502T170000
DTEND;TZID=UTC:20250502T190000
DTSTAMP:20260423T194837
CREATED:20250306T155538Z
LAST-MODIFIED:20250410T065551Z
UID:9068-1746205200-1746212400@kenaiartcenter.org
SUMMARY:What We Do Group Show featuring The Art Gaggle and May Mural Sale
DESCRIPTION:Main Gallery—What We Do featuring The Art Gaggle group. A mixed media group show that will highlight the creativity and talents of this local gaggle of artists who’ve been making art together in our area for a long time.\nThis show will open on Friday May 2nd and run through Friday May 30th\, closing at 5 pm. Live Music by Garrett Ennis. Refreshments. Free event. Open to the public. \n \n  \nBack Gallery—Mural Sale. We are very excited to bring you a new and unique show event.  Some of our mural artists have stretched their murals from previous KAC mural shows and will have these murals for sale until the last Friday of the month! Instead of waiting until the sale is over at the end of the month\, each buyer can take their purchased mural home immediately.  Each mural will be stretched and will have hanging hardware attached. \n \n  \n 
URL:https://kenaiartcenter.org/event/what-we-do-group-show-featuring-the-art-gaggle/
LOCATION:AK
ATTACH;FMTTYPE=image/png:https://kenaiartcenter.org/wp-content/uploads/2025/03/What-we-Do-May-flier.png
END:VEVENT
BEGIN:VEVENT
DTSTART;TZID=UTC:20250502T170000
DTEND;TZID=UTC:20250502T190000
DTSTAMP:20260423T194837
CREATED:20250325T063739Z
LAST-MODIFIED:20250409T033730Z
UID:9123-1746205200-1746212400@kenaiartcenter.org
SUMMARY:Mural Sale
DESCRIPTION:MURAL SALE!  In our back gallery for the months of May and August\, murals from our past mural shows will be stretched and for sale. Buyers will be able to take their murals home immediately after purchase.  This sale will open on Friday May 2nd at 5 pm and will close on Friday May 30th. In August\, the sale will open on Friday August 1st at 5 pm and run through Friday August 29th. When a mural sells\, we will replace it with a different mural\, so come back again and again to see the changes in the show. First Friday Opening Reception 5–7 pm. Refreshments and live music. Open to the public. Free event! \n  \nInformation For Mural Artists: \nThe KAC is looking for mural artists who have participated in past KAC mural shows to show and sell their stretched murals for our May 2025 mural sale happening in the back gallery.  \nIf you are interested\, here are the sale details:  \n\nYou must be a Kenai Art Center member to submit your mural for sale or there is a $35 entry fee.\nThe murals need to be on a stretcher frame. They don’t need to be traditionally framed\, but will only be accepted if they are stretched.  Hanging hardware must be attached on back of piece. \nEach artist needs to fill out and turn in an art entry form with their submissions. Each artist may submit up to 3 murals.   To download and print a form: https://kenaiartcenter.org/forms/\nWe are accepting mural submissions starting Saturday April 5th through Saturday April 26th. \nThis will be a rotating sale–meaning\, as a mural sells\, we will replace it with another one. This will help draw more people in to see your work since we will be changing the show each week. \nAll decisions about the order the murals are shown and hung is up to the executive director with input from the KAC board of directors. \n\nThere is also another mural sale in August\, so be thinking about getting your murals stretched for that one too!  \nIF you have any questions\,  reach out to us via email at kenaiartcenter@gmail.com
URL:https://kenaiartcenter.org/event/mural-sale/
LOCATION:AK
CATEGORIES:First Friday
ATTACH;FMTTYPE=image/png:https://kenaiartcenter.org/wp-content/uploads/2025/03/mural-sale-flier-may.png
ORGANIZER;CN="Kenai Art Center":MAILTO:kenaiartcenter@gmail.com
END:VEVENT
BEGIN:VEVENT
DTSTART;TZID=UTC:20250510T100000
DTEND;TZID=UTC:20250510T170000
DTSTAMP:20260423T194837
CREATED:20250318T052056Z
LAST-MODIFIED:20250318T052056Z
UID:9103-1746871200-1746896400@kenaiartcenter.org
SUMMARY:Kenai Potters Guild Mother's Day Pottery Sale
DESCRIPTION:Head to the KAC to get some unique and original pottery just in time for Mother’s Day! One Day Sale Only. \nFor more info: kenaipottersguild.pr@gmail.com
URL:https://kenaiartcenter.org/event/kenai-potters-guild-mothers-day-pottery-sale-2/
LOCATION:AK
CATEGORIES:Community Events,Kenai Potters' Guild
ATTACH;FMTTYPE=image/png:https://kenaiartcenter.org/wp-content/uploads/2025/03/mothers-day-pottery-sale.png
END:VEVENT
BEGIN:VEVENT
DTSTART;TZID=UTC:20250518T160000
DTEND;TZID=UTC:20250518T183000
DTSTAMP:20260423T194837
CREATED:20250313T061611Z
LAST-MODIFIED:20250318T040822Z
UID:9079-1747584000-1747593000@kenaiartcenter.org
SUMMARY:STUDYING THE STILL LIFE: A KAC Members Only Free Event
DESCRIPTION:As a thank you to our KAC members we would like to invite you to a small gathering to paint\, draw\, create from a collaborative still life composition. No formal instruction–just a relaxed get together to share inspiration and love of creating art. This is a free KAC Members Only Event.  We invite you to bring your art supplies and an interesting object to place on the table that will become part of the still life composition. We will provide the still life table\, work tables and chairs for you.  Please bring whatever else you need to create your art.  We have 15 spots open for this event\, so reserve your spot today by stopping by the KAC or emailing us at kenaiartcenter@gmail.com. Hope to see you there! \n. \n 
URL:https://kenaiartcenter.org/event/studying-the-still-life-a-kac-members-only-free-event/
LOCATION:AK
ATTACH;FMTTYPE=image/png:https://kenaiartcenter.org/wp-content/uploads/2025/03/studying-the-still-life-2-copy.png
ORGANIZER;CN="Kenai Art Center":MAILTO:kenaiartcenter@gmail.com
END:VEVENT
END:VCALENDAR