BEGIN:VCALENDAR
VERSION:2.0
PRODID:-//Kenai Art Center - ECPv6.15.20//NONSGML v1.0//EN
CALSCALE:GREGORIAN
METHOD:PUBLISH
X-ORIGINAL-URL:https://kenaiartcenter.org
X-WR-CALDESC:Events for Kenai Art Center
REFRESH-INTERVAL;VALUE=DURATION:PT1H
X-Robots-Tag:noindex
X-PUBLISHED-TTL:PT1H
BEGIN:VTIMEZONE
TZID:UTC
BEGIN:STANDARD
TZOFFSETFROM:+0000
TZOFFSETTO:+0000
TZNAME:UTC
DTSTART:20240101T000000
END:STANDARD
END:VTIMEZONE
BEGIN:VEVENT
DTSTART;TZID=UTC:20251114T170000
DTEND;TZID=UTC:20251114T170000
DTSTAMP:20260423T224650
CREATED:20250716T054538Z
LAST-MODIFIED:20251112T091421Z
UID:8816-1763139600-1763139600@kenaiartcenter.org
SUMMARY:Mural Show 2025
DESCRIPTION:  \n \nIt is once again time for the Annual Mural Show! The artists have assembled\, the plans have been drawn and we are ready to start this amazing collaborative event! Artists will start painting on Tuesday Nov 4th and the art center will be open for extended hours for the public to stop by and watch the daily progress of the murals. This is an exciting and much anticipated show that gives viewers the chance to see the work unfold before the opening reception. Because of the week of painting\, the opening reception will happen the SECOND Friday of the month. Painting hours for artists will start on Tuesday November 4th 10:00 am to 10:00 pm every day until Tuesday November 11th\, ending at 10:00 pm. \nThe Mural Show 2025 will open on Friday November 14th at the opening reception from 5– 7 pm. \nFree Event. Open to the public. Live Music by Robert Parsons. Refreshments\, beer and wine served. \nThe show will run from November 14th through Friday December 19th. We will be closed for the holiday until January 2nd and will open for the DREAMS OF THE SUN show. \nThis show will coincide with the JUST MY TYPE show in the back gallery. for more Info about the JUST MY TYPE SHOW: https://kenaiartcenter.org/event/just-our-type-featuring-artists-meezie-hermansen-and-kimberly-lorentzen/ \nArtists in photo (top left to bottom right): Jason Ramirez\, Diane Peterson\, James Adcox\, Marco Mendoza\, Abbey Ulen\, Anna Widman\, Jose Viilchez from past mural shows.
URL:https://kenaiartcenter.org/event/mural-show-2025/
LOCATION:AK
CATEGORIES:Call For Art
ORGANIZER;CN="Kenai Art Center":MAILTO:kenaiartcenter@gmail.com
END:VEVENT
BEGIN:VEVENT
DTSTART;TZID=UTC:20251114T170000
DTEND;TZID=UTC:20251114T190000
DTSTAMP:20260423T224651
CREATED:20250814T084156Z
LAST-MODIFIED:20251018T040827Z
UID:9430-1763139600-1763146800@kenaiartcenter.org
SUMMARY:JUST OUR TYPE featuring artists Meezie Hermansen and Kimberly Lorentzen
DESCRIPTION:Join us in our back gallery starting on November 14th for this two woman show titled JUST OUR TYPE. \nMeezie Hermansen and Kimberly Lorentzen will bring this interactive show to the KAC and in their words this exhibit is “intended to celebrate the written word and the themes of human experience in our community. We are together\, just our type of community…There is currently\, world-wide\, a resurgence of appreciation for the beauty of the manual typewriter as an elegant machine and of the physical experience of using it in a world that has become increasingly digital and virtual.”  \nIn the preceding months to the show opening\, be on the lookout for for staged public-use typewriters around town in coffee shops\, bookstores\, etc with invitations to share thoughts that will then be on display at this interactive exhibit. \nTheir idea was inspired by conversations asking the following questions: \n\nIf art heals\, can it heal the neglect of our physical bodies brought about by our minds’ engagement with a largely virtual world?\nCan the act of sharing thoughts publicly heal the separation that members of a community can feel in a society that has become increasingly divided along ideological lines in digital and virtual public discourse?\n\nThis show will open in tandem with the Mural Show opening reception in the main gallery on November 14th and will run thought December 19th. \nAbout the artists: \nMeezie Hermansen is a lifelong Cook Inlet setnetter and a small animal veterinarian with a love for the craft of writing.  This has brought her to the world of vintage typewriters.  Here\, she rediscovered the magic of seeing words appear physically in the world in real time\, with no easy editing\, resulting in a slower but more distilled writing process. \nKimberly Lorentzen grew up in rural Alaska where the village pace left plenty of time for curiosity and discovery. Whether writing\, painting\, or working in clay\, her goal is to showcase small wonders that are often missed\, to point at tiny marvels and yell\, “LOOK!” to anyone nearby. She uses whatever is at her disposal to do it.  She caught typewriter fever from her friend\, Meezie\, over long conversations about the trend toward all things fast and digital. \n 
URL:https://kenaiartcenter.org/event/just-our-type-featuring-artists-meezie-hermansen-and-kimberly-lorentzen/
LOCATION:AK
CATEGORIES:Around the Community,Community Events,Exhibitions,Live Music
ATTACH;FMTTYPE=image/png:https://kenaiartcenter.org/wp-content/uploads/2025/08/Just-Our-Type-copy.png
ORGANIZER;CN="Kenai Art Center":MAILTO:kenaiartcenter@gmail.com
END:VEVENT
BEGIN:VEVENT
DTSTART;TZID=UTC:20251122T130000
DTEND;TZID=UTC:20251122T143000
DTSTAMP:20260423T224651
CREATED:20251023T064031Z
LAST-MODIFIED:20251028T054913Z
UID:9527-1763816400-1763821800@kenaiartcenter.org
SUMMARY:Moving With The Mural
DESCRIPTION:  \n \nImprovisational Dance Event \nSaturday November 22nd 1:00–2:30 pm. \nPhotographer and teacher Susan Biggs will be teaching basic improvisational  movement and then the participants will use the surrounding murals as inspiration for creative dance. \n$5 Donation from each participant. \nFor more information please contact Susan Biggs at 907-252-3582
URL:https://kenaiartcenter.org/event/moving-with-the-mural/
LOCATION:Kenai Art Center\, 816 Cook Ave\, Kenai\, AK\, 99611
CATEGORIES:Workshops
ATTACH;FMTTYPE=image/png:https://kenaiartcenter.org/wp-content/uploads/2025/10/moving-mural.png
END:VEVENT
BEGIN:VEVENT
DTSTART;TZID=UTC:20251122T160000
DTEND;TZID=UTC:20251122T173000
DTSTAMP:20260423T224651
CREATED:20251108T032140Z
LAST-MODIFIED:20251108T073416Z
UID:9566-1763827200-1763832600@kenaiartcenter.org
SUMMARY:Clay Gingerbread House Workshop with Daisy Jeffords
DESCRIPTION:  \nSorry….THIS EVENT HAS SOLD OUT! \n  \nClay Gingerbread Workshop with potter Daisy Jeffords \nNovember 22nd   4 pm at the KAC! \nSign up here: https://www.daisyjeffordspottery.com/book-online
URL:https://kenaiartcenter.org/event/clay-gingerbread-house-workshop-with-daisy-jeffords/
LOCATION:Kenai Art Center\, 816 Cook Ave\, Kenai\, AK\, 99611
CATEGORIES:Community Events,Workshops
ATTACH;FMTTYPE=image/png:https://kenaiartcenter.org/wp-content/uploads/2025/11/IMG_5689.png
END:VEVENT
BEGIN:VEVENT
DTSTART;TZID=UTC:20251127T080000
DTEND;TZID=UTC:20251202T170000
DTSTAMP:20260423T224651
CREATED:20251023T070208Z
LAST-MODIFIED:20251023T070208Z
UID:9531-1764230400-1764694800@kenaiartcenter.org
SUMMARY:Holiday Closure
DESCRIPTION:The KAC will be closed for the holiday and for the Arts & Crafts Fair. We will open again on December 3rd. \nFor craft fair information: https://kenaiartcenter.org/event/https-kenaiartcenter-org-spring-kenai-arts-crafts-fair/
URL:https://kenaiartcenter.org/event/holiday-closure-2/
LOCATION:AK
ATTACH;FMTTYPE=image/png:https://kenaiartcenter.org/wp-content/uploads/2025/10/november-closure.png
END:VEVENT
BEGIN:VEVENT
DTSTART;TZID=UTC:20251127T080000
DTEND;TZID=UTC:20260304T170000
DTSTAMP:20260423T224651
CREATED:20251127T105425Z
LAST-MODIFIED:20251127T110251Z
UID:9610-1764230400-1772643600@kenaiartcenter.org
SUMMARY:CALL FOR ARTISTS...to teach workshops at the KAC
DESCRIPTION:The KAC is looking for experienced artists to teach workshops at the Kenai Art Center in 2026. \nPainting\, drawing\, clay works\, fiber\, collage\, weaving\, print making\, etc! If you love creating and teaching others how to create\, we would love to host your workshop here at the KAC. \nWorkshop artists are responsible for: \n\nPoint of sale for all workshop fees\n$45  building use fee (payable to the KAC before or on the day of the workshop)\nall workshop materials\n\nWorkshop artists keep 100% of workshop fees. The KAC will provide advertising\, tables\, chairs\, and other support items. \nIf you would like to be considered for booking a workshop with us\, please contact us via email at kenaiartcenter@gmail.com (attention Charlotte). Please include: \n\nA clear and detailed description of your workshop idea\nImages of the finished the product\nAn artist statement telling us why your workshop will help grow creativity and the love of arts in our area.\n\n  \n  \n 
URL:https://kenaiartcenter.org/event/call-for-artists-to-teach-workshops-at-the-kac/
LOCATION:AK
CATEGORIES:Around the Community,Call For Art,Workshops
ATTACH;FMTTYPE=image/png:https://kenaiartcenter.org/wp-content/uploads/2025/11/workshop-call-for-artists.png
END:VEVENT
BEGIN:VEVENT
DTSTART;TZID=UTC:20251128T100000
DTEND;TZID=UTC:20251129T170000
DTSTAMP:20260423T224651
CREATED:20241203T075954Z
LAST-MODIFIED:20260129T143910Z
UID:8919-1764324000-1764435600@kenaiartcenter.org
SUMMARY:Kenai Art Center Winter Arts & Crafts Fair 2025
DESCRIPTION:THIS EVENT IS SOLD OUT. We have not more vendor booths available. \nNovember 28th & 29th. 10 am to 5 pm. \nLots of creative and unique handmade gifts made by our local artists here on the Kenai Peninsula. \nIf you’re a vendor\, it’s never too early to reserve your booth! \nRemember\, we do not accept applications via email. Payment must accompany application in order to reserve a booth. \nYou can stop by the Kenai Art Center Wednesday through Saturday 12–5 and pick up a form or mail a form with a check to: The Kenai Arts Center  at PO Box 703\, Kenai Alaska 99611. For questions: call Vicky at 907-394-7381 \nor click here for a printable form: (This Event is SOLD OUT) \nKenai Arts application 2025 \n 
URL:https://kenaiartcenter.org/event/kenai-art-center-winter-arts-crafts-fair-2025/
LOCATION:kenai Central High School\, 9583 Kenai Spur Hwy\, Kenai\, Alaska\, 99611\, United States
ATTACH;FMTTYPE=image/png:https://kenaiartcenter.org/wp-content/uploads/2023/01/winter-arts-and-crafts-flier-2025.png
ORGANIZER;CN="Kenai Art Center":MAILTO:kenaiartcenter@gmail.com
END:VEVENT
END:VCALENDAR